BEGIN:VCALENDAR
VERSION:2.0
PRODID:-//Center for New Evangelization - ECPv6.15.20//NONSGML v1.0//EN
CALSCALE:GREGORIAN
METHOD:PUBLISH
X-WR-CALNAME:Center for New Evangelization
X-ORIGINAL-URL:https://www.centerforthenewevangelization.org
X-WR-CALDESC:Events for Center for New Evangelization
REFRESH-INTERVAL;VALUE=DURATION:PT1H
X-Robots-Tag:noindex
X-PUBLISHED-TTL:PT1H
BEGIN:VTIMEZONE
TZID:UTC
BEGIN:STANDARD
TZOFFSETFROM:+0000
TZOFFSETTO:+0000
TZNAME:UTC
DTSTART:20200101T000000
END:STANDARD
END:VTIMEZONE
BEGIN:VEVENT
DTSTART;TZID=UTC:20221005T100000
DTEND;TZID=UTC:20221005T110000
DTSTAMP:20260424T115704
CREATED:20220831T211707Z
LAST-MODIFIED:20220926T202124Z
UID:10000490-1664964000-1664967600@www.centerforthenewevangelization.org
SUMMARY:ARK Religious Assessment Orientation Webinar
DESCRIPTION:ARK is the first comprehensive assessment of Catholic Religious Education. \nArchdiocesan Catholic Schools are in a second year of piloting ARK. We are looking for Parishes (or Families of Parishes) to pilot ARK this year. ARK pilot parishes will not be required to administrate ACRE this year. \nARK Features:\n\nIndividual reporting to see change over time and see unique needs\nAggregate data to see trending and general success\nAnnual data normalization for national comparison\nEasy rostering and administration to allow you to focus on teaching\n\nInterested Parishes are asked to sign up for this one-hour orientation webinar. Once you are registered you will receive the webinar  information. Please see our flyer for more information about ARK. \nFLYER
URL:https://www.centerforthenewevangelization.org/event/ark-religious-assessment-orientation-webinar
LOCATION:Virtual over Zoom\, OH\, United States
CATEGORIES:Parish Leadership,Youth Evangelization
ATTACH;FMTTYPE=image/png:https://www.centerforthenewevangelization.org/wp-content/uploads/2022/08/ARK_color_vertical@2x-300x156-1.png
ORGANIZER;CN="Sean Ater":MAILTO:sater@catholicaoc.org
END:VEVENT
BEGIN:VEVENT
DTSTART;TZID=UTC:20210520T133000
DTEND;TZID=UTC:20210520T133000
DTSTAMP:20260424T115704
CREATED:20210401T170759Z
LAST-MODIFIED:20210401T171756Z
UID:10000371-1621517400-1621517400@www.centerforthenewevangelization.org
SUMMARY:Initiate: Formation for RCIA Ministers
DESCRIPTION:Join fellow RCIA ministers – veteran and novice – for our free virtual workshop series\, Initiate.\nIn just 90 minutes: \n\nDialogue with your colleagues about best practices for initiation ministry.\nExplore some new ideas from experts in the field.\nDiscover new approaches to Christian Initiation\, all from the comfort of your own tablet or computer!\n\nThursdays\, 1:30p-3pm; Apr 22\, May 6\, May 20\nClick here for more info and to register.
URL:https://www.centerforthenewevangelization.org/event/initiate-formation-for-rcia-ministers/2021-05-20
LOCATION:Virtual over Zoom\, OH\, United States
CATEGORIES:Adult Evangelization,Parish Leadership,Young Adult
ATTACH;FMTTYPE=image/png:https://www.centerforthenewevangelization.org/wp-content/uploads/2021/04/initiate_final-logo-e1617282589617.png
ORGANIZER;CN="Nicholas Hardesty":MAILTO:nhardesty@catholicaoc.org
END:VEVENT
BEGIN:VEVENT
DTSTART;TZID=UTC:20210506T133000
DTEND;TZID=UTC:20210506T133000
DTSTAMP:20260424T115704
CREATED:20210401T170759Z
LAST-MODIFIED:20210401T171756Z
UID:10000370-1620307800-1620307800@www.centerforthenewevangelization.org
SUMMARY:Initiate: Formation for RCIA Ministers
DESCRIPTION:Join fellow RCIA ministers – veteran and novice – for our free virtual workshop series\, Initiate.\nIn just 90 minutes: \n\nDialogue with your colleagues about best practices for initiation ministry.\nExplore some new ideas from experts in the field.\nDiscover new approaches to Christian Initiation\, all from the comfort of your own tablet or computer!\n\nThursdays\, 1:30p-3pm; Apr 22\, May 6\, May 20\nClick here for more info and to register.
URL:https://www.centerforthenewevangelization.org/event/initiate-formation-for-rcia-ministers/2021-05-06
LOCATION:Virtual over Zoom\, OH\, United States
CATEGORIES:Adult Evangelization,Parish Leadership,Young Adult
ATTACH;FMTTYPE=image/png:https://www.centerforthenewevangelization.org/wp-content/uploads/2021/04/initiate_final-logo-e1617282589617.png
ORGANIZER;CN="Nicholas Hardesty":MAILTO:nhardesty@catholicaoc.org
END:VEVENT
BEGIN:VEVENT
DTSTART;TZID=UTC:20210422T133000
DTEND;TZID=UTC:20210422T133000
DTSTAMP:20260424T115704
CREATED:20210401T170759Z
LAST-MODIFIED:20210401T171756Z
UID:10000369-1619098200-1619098200@www.centerforthenewevangelization.org
SUMMARY:Initiate: Formation for RCIA Ministers
DESCRIPTION:Join fellow RCIA ministers – veteran and novice – for our free virtual workshop series\, Initiate.\nIn just 90 minutes: \n\nDialogue with your colleagues about best practices for initiation ministry.\nExplore some new ideas from experts in the field.\nDiscover new approaches to Christian Initiation\, all from the comfort of your own tablet or computer!\n\nThursdays\, 1:30p-3pm; Apr 22\, May 6\, May 20\nClick here for more info and to register.
URL:https://www.centerforthenewevangelization.org/event/initiate-formation-for-rcia-ministers/2021-04-22
LOCATION:Virtual over Zoom\, OH\, United States
CATEGORIES:Adult Evangelization,Parish Leadership,Young Adult
ATTACH;FMTTYPE=image/png:https://www.centerforthenewevangelization.org/wp-content/uploads/2021/04/initiate_final-logo-e1617282589617.png
ORGANIZER;CN="Nicholas Hardesty":MAILTO:nhardesty@catholicaoc.org
END:VEVENT
END:VCALENDAR