BEGIN:VCALENDAR
VERSION:2.0
PRODID:-//Center for New Evangelization - ECPv6.15.20//NONSGML v1.0//EN
CALSCALE:GREGORIAN
METHOD:PUBLISH
X-WR-CALNAME:Center for New Evangelization
X-ORIGINAL-URL:https://www.centerforthenewevangelization.org
X-WR-CALDESC:Events for Center for New Evangelization
REFRESH-INTERVAL;VALUE=DURATION:PT1H
X-Robots-Tag:noindex
X-PUBLISHED-TTL:PT1H
BEGIN:VTIMEZONE
TZID:UTC
BEGIN:STANDARD
TZOFFSETFROM:+0000
TZOFFSETTO:+0000
TZNAME:UTC
DTSTART:20200101T000000
END:STANDARD
END:VTIMEZONE
BEGIN:VEVENT
DTSTART;TZID=UTC:20211006T183000
DTEND;TZID=UTC:20211006T203000
DTSTAMP:20260424T133422
CREATED:20210220T025111Z
LAST-MODIFIED:20220915T180842Z
UID:10000344-1633545000-1633552200@www.centerforthenewevangelization.org
SUMMARY:XLT High School Youth Tour - Minster\, Ohio
DESCRIPTION:https://www.centerforthenewevangelization.org/wp-content/uploads/2022/09/XLT-Tour-Promo.mp4\nHigh school youth (grades 9-12) are invited to a Night of praise & worship featuring Miley Azbill\, Adoration\, opportunities for Reconciliation\, and an empowering talk from national speaker David Calavitta. \nDoors open at 6:20 p.m. \nRegister through your Youth Minister/DRE. \nAll youth are required to have a permission form to attend. \nFLYER
URL:https://www.centerforthenewevangelization.org/event/xlt-tour-minster-ohio
LOCATION:Minster High School\, 100 E 7th Street\, Minster\, OH\, 45865\, United States
CATEGORIES:Youth Events
ATTACH;FMTTYPE=image/jpeg:https://www.centerforthenewevangelization.org/wp-content/uploads/2021/08/xlt-logo.jpg
END:VEVENT
END:VCALENDAR