BEGIN:VCALENDAR
VERSION:2.0
PRODID:-//Center for New Evangelization - ECPv6.15.20//NONSGML v1.0//EN
CALSCALE:GREGORIAN
METHOD:PUBLISH
X-ORIGINAL-URL:https://www.centerforthenewevangelization.org
X-WR-CALDESC:Events for Center for New Evangelization
REFRESH-INTERVAL;VALUE=DURATION:PT1H
X-Robots-Tag:noindex
X-PUBLISHED-TTL:PT1H
BEGIN:VTIMEZONE
TZID:UTC
BEGIN:STANDARD
TZOFFSETFROM:+0000
TZOFFSETTO:+0000
TZNAME:UTC
DTSTART:20230101T000000
END:STANDARD
END:VTIMEZONE
BEGIN:VEVENT
DTSTART;TZID=UTC:20241016T190000
DTEND;TZID=UTC:20241016T210000
DTSTAMP:20260421T231746
CREATED:20240816T214746Z
LAST-MODIFIED:20240926T180823Z
UID:10000881-1729105200-1729112400@www.centerforthenewevangelization.org
SUMMARY:St. Gerard Mass of Hope for the Blessing of Children
DESCRIPTION:May 10\, 20258:30 am to 2:00 pmMaria Stein Spiritual Center\, Maria Stein\, Ohio\, 45860								\n				\n				\n				\n									The Gift of Fertility: Mother & Daughter Workshop is designed to provide a Catholic context for moms and their daughters ages 10-14 to deepen their bond and learn about God’s beautiful plan for growing up. 								\n				\n				\n				\n									\n					\n						\n									Download Flyer\n					\n					\n				\n								\n				\n				\n		\n				\n				\n																														\n				\n				\n					\n				\n		\n					\n				\n				\n									Starting with Holy Mass at 8:30 a.m.\, this workshop will include three presentations highlighting the dignity and vocation of women\, the Theology of the Body\, chastity\, modesty\, the biology of the reproductive systems of men and women\, and the development of a baby in utero. Mothers will be provided tips on teaching their daughters about the conjugal act\, a topic that will not be taught at this event. A fun activity is included\, along with time for moms to speak with their daughters privately. 								\n				\n				\n				\n					Speakers include:				\n				\n		\n		\n		\n				\n				\n																														\n				\n				\n				\n									Dr. Trina Winner 								\n				\n				\n		\n				\n				\n																														\n				\n				\n				\n									Sr. Philomena Marie of the Sacred Heart\, CFE 								\n				\n				\n		\n				\n				\n																														\n				\n				\n				\n									Melissa Rahm 								\n				\n				\n				\n				\n				\n									Mass will begin at 8:30 in the chapel. Check-in begins at 9:00 a.m. with a light breakfast\, and presentations begin at 9:30 a.m. There will be lunch served at the end of the event. Questions? Please contact Adriana Vasquez at avasquez@catholicaoc.org RSVP deadline is Tuesday\, May 6th 2025. All participants will receive a welcome email a few days before the event. Thank you for your interest\, and we ask your prayers for blessings upon the team of presenters and all the participants.  Note: you only need one ticket per family. Payment for this workshop will show up on your credit card as a PayPal charge. 								\n				\n				\n					\n				\n		\n					\n				\n				\n					Tickets				\n				\n				\n				\n									Get tickets today via our event page on Ticket Tailor! 								\n				\n				\n				\n									\n					\n						\n									Get Tickets
URL:https://www.centerforthenewevangelization.org/event/st-gerard-mass-of-hope-for-the-blessing-of-children
LOCATION:Cathedral Basilica of St. Peter in Chains\, 325 W 8th St\, Cincinnati\, OH\, 45202\, United States
CATEGORIES:Adult Evangelization,Marriage,Marriage and Family
ATTACH;FMTTYPE=image/jpeg:https://www.centerforthenewevangelization.org/wp-content/uploads/2023/06/couples-3.jpg
ORGANIZER;CN="Adriana Vasquez":MAILTO:avasquez@catholicaoc.org
END:VEVENT
BEGIN:VEVENT
DTSTART;TZID=UTC:20241019T190000
DTEND;TZID=UTC:20241019T220000
DTSTAMP:20260421T231746
CREATED:20240716T002333Z
LAST-MODIFIED:20241007T225022Z
UID:10000804-1729364400-1729375200@www.centerforthenewevangelization.org
SUMMARY:Encuentro
DESCRIPTION:May 10\, 20258:30 am to 2:00 pmMaria Stein Spiritual Center\, Maria Stein\, Ohio\, 45860								\n				\n				\n				\n									The Gift of Fertility: Mother & Daughter Workshop is designed to provide a Catholic context for moms and their daughters ages 10-14 to deepen their bond and learn about God’s beautiful plan for growing up. 								\n				\n				\n				\n									\n					\n						\n									Download Flyer\n					\n					\n				\n								\n				\n				\n		\n				\n				\n																														\n				\n				\n					\n				\n		\n					\n				\n				\n									Starting with Holy Mass at 8:30 a.m.\, this workshop will include three presentations highlighting the dignity and vocation of women\, the Theology of the Body\, chastity\, modesty\, the biology of the reproductive systems of men and women\, and the development of a baby in utero. Mothers will be provided tips on teaching their daughters about the conjugal act\, a topic that will not be taught at this event. A fun activity is included\, along with time for moms to speak with their daughters privately. 								\n				\n				\n				\n					Speakers include:				\n				\n		\n		\n		\n				\n				\n																														\n				\n				\n				\n									Dr. Trina Winner 								\n				\n				\n		\n				\n				\n																														\n				\n				\n				\n									Sr. Philomena Marie of the Sacred Heart\, CFE 								\n				\n				\n		\n				\n				\n																														\n				\n				\n				\n									Melissa Rahm 								\n				\n				\n				\n				\n				\n									Mass will begin at 8:30 in the chapel. Check-in begins at 9:00 a.m. with a light breakfast\, and presentations begin at 9:30 a.m. There will be lunch served at the end of the event. Questions? Please contact Adriana Vasquez at avasquez@catholicaoc.org RSVP deadline is Tuesday\, May 6th 2025. All participants will receive a welcome email a few days before the event. Thank you for your interest\, and we ask your prayers for blessings upon the team of presenters and all the participants.  Note: you only need one ticket per family. Payment for this workshop will show up on your credit card as a PayPal charge. 								\n				\n				\n					\n				\n		\n					\n				\n				\n					Tickets				\n				\n				\n				\n									Get tickets today via our event page on Ticket Tailor! 								\n				\n				\n				\n									\n					\n						\n									Get Tickets
URL:https://www.centerforthenewevangelization.org/event/encuentro-2
LOCATION:St. Mary’s Church\, 310 Allen St\, Dayton\, OH\, 45410\, United States
CATEGORIES:Hispanic Evangelization
ATTACH;FMTTYPE=image/jpeg:https://www.centerforthenewevangelization.org/wp-content/uploads/2024/07/Behold-Monstrance-scaled.jpg
END:VEVENT
BEGIN:VEVENT
DTSTART;TZID=UTC:20241029T133000
DTEND;TZID=UTC:20241029T143000
DTSTAMP:20260421T231746
CREATED:20241008T235232Z
LAST-MODIFIED:20241009T000907Z
UID:10000885-1730208600-1730212200@www.centerforthenewevangelization.org
SUMMARY:Initiate Webinar Series
DESCRIPTION:May 10\, 20258:30 am to 2:00 pmMaria Stein Spiritual Center\, Maria Stein\, Ohio\, 45860								\n				\n				\n				\n									The Gift of Fertility: Mother & Daughter Workshop is designed to provide a Catholic context for moms and their daughters ages 10-14 to deepen their bond and learn about God’s beautiful plan for growing up. 								\n				\n				\n				\n									\n					\n						\n									Download Flyer\n					\n					\n				\n								\n				\n				\n		\n				\n				\n																														\n				\n				\n					\n				\n		\n					\n				\n				\n									Starting with Holy Mass at 8:30 a.m.\, this workshop will include three presentations highlighting the dignity and vocation of women\, the Theology of the Body\, chastity\, modesty\, the biology of the reproductive systems of men and women\, and the development of a baby in utero. Mothers will be provided tips on teaching their daughters about the conjugal act\, a topic that will not be taught at this event. A fun activity is included\, along with time for moms to speak with their daughters privately. 								\n				\n				\n				\n					Speakers include:				\n				\n		\n		\n		\n				\n				\n																														\n				\n				\n				\n									Dr. Trina Winner 								\n				\n				\n		\n				\n				\n																														\n				\n				\n				\n									Sr. Philomena Marie of the Sacred Heart\, CFE 								\n				\n				\n		\n				\n				\n																														\n				\n				\n				\n									Melissa Rahm 								\n				\n				\n				\n				\n				\n									Mass will begin at 8:30 in the chapel. Check-in begins at 9:00 a.m. with a light breakfast\, and presentations begin at 9:30 a.m. There will be lunch served at the end of the event. Questions? Please contact Adriana Vasquez at avasquez@catholicaoc.org RSVP deadline is Tuesday\, May 6th 2025. All participants will receive a welcome email a few days before the event. Thank you for your interest\, and we ask your prayers for blessings upon the team of presenters and all the participants.  Note: you only need one ticket per family. Payment for this workshop will show up on your credit card as a PayPal charge. 								\n				\n				\n					\n				\n		\n					\n				\n				\n					Tickets				\n				\n				\n				\n									Get tickets today via our event page on Ticket Tailor! 								\n				\n				\n				\n									\n					\n						\n									Get Tickets
URL:https://www.centerforthenewevangelization.org/event/initiate-webinar
LOCATION:Ohio
CATEGORIES:Adult Evangelization,Parish Leadership,Parish Vitality
ATTACH;FMTTYPE=image/jpeg:https://www.centerforthenewevangelization.org/wp-content/uploads/2024/10/Initiate-Webinars.jpg
ORGANIZER;CN="Shane Legg":MAILTO:slegg@catholicaoc.org
END:VEVENT
END:VCALENDAR