BEGIN:VCALENDAR
VERSION:2.0
PRODID:-//Center for New Evangelization - ECPv6.15.20//NONSGML v1.0//EN
CALSCALE:GREGORIAN
METHOD:PUBLISH
X-WR-CALNAME:Center for New Evangelization
X-ORIGINAL-URL:https://www.centerforthenewevangelization.org
X-WR-CALDESC:Events for Center for New Evangelization
REFRESH-INTERVAL;VALUE=DURATION:PT1H
X-Robots-Tag:noindex
X-PUBLISHED-TTL:PT1H
BEGIN:VTIMEZONE
TZID:UTC
BEGIN:STANDARD
TZOFFSETFROM:+0000
TZOFFSETTO:+0000
TZNAME:UTC
DTSTART:20210101T000000
END:STANDARD
END:VTIMEZONE
BEGIN:VEVENT
DTSTART;TZID=UTC:20221201T090000
DTEND;TZID=UTC:20221201T120000
DTSTAMP:20260420T102432
CREATED:20220419T211206Z
LAST-MODIFIED:20220804T222941Z
UID:10000456-1669885200-1669896000@www.centerforthenewevangelization.org
SUMMARY:December Missio Days - Cincinnati
DESCRIPTION:May 10\, 20258:30 am to 2:00 pmMaria Stein Spiritual Center\, Maria Stein\, Ohio\, 45860								\n				\n				\n				\n									The Gift of Fertility: Mother & Daughter Workshop is designed to provide a Catholic context for moms and their daughters ages 10-14 to deepen their bond and learn about God’s beautiful plan for growing up. 								\n				\n				\n				\n									\n					\n						\n									Download Flyer\n					\n					\n				\n								\n				\n				\n		\n				\n				\n																														\n				\n				\n					\n				\n		\n					\n				\n				\n									Starting with Holy Mass at 8:30 a.m.\, this workshop will include three presentations highlighting the dignity and vocation of women\, the Theology of the Body\, chastity\, modesty\, the biology of the reproductive systems of men and women\, and the development of a baby in utero. Mothers will be provided tips on teaching their daughters about the conjugal act\, a topic that will not be taught at this event. A fun activity is included\, along with time for moms to speak with their daughters privately. 								\n				\n				\n				\n					Speakers include:				\n				\n		\n		\n		\n				\n				\n																														\n				\n				\n				\n									Dr. Trina Winner 								\n				\n				\n		\n				\n				\n																														\n				\n				\n				\n									Sr. Philomena Marie of the Sacred Heart\, CFE 								\n				\n				\n		\n				\n				\n																														\n				\n				\n				\n									Melissa Rahm 								\n				\n				\n				\n				\n				\n									Mass will begin at 8:30 in the chapel. Check-in begins at 9:00 a.m. with a light breakfast\, and presentations begin at 9:30 a.m. There will be lunch served at the end of the event. Questions? Please contact Adriana Vasquez at avasquez@catholicaoc.org RSVP deadline is Tuesday\, May 6th 2025. All participants will receive a welcome email a few days before the event. Thank you for your interest\, and we ask your prayers for blessings upon the team of presenters and all the participants.  Note: you only need one ticket per family. Payment for this workshop will show up on your credit card as a PayPal charge. 								\n				\n				\n					\n				\n		\n					\n				\n				\n					Tickets				\n				\n				\n				\n									Get tickets today via our event page on Ticket Tailor! 								\n				\n				\n				\n									\n					\n						\n									Get Tickets
URL:https://www.centerforthenewevangelization.org/event/missio-days-cincinnati-12-2022
LOCATION:St. Vivian Catholic Church\, 7600 Winton Road\, Cincinnati\, OH\, 45224\, United States
CATEGORIES:Adult Evangelization,Missio Cincinnati,Youth Evangelization
ATTACH;FMTTYPE=image/jpeg:https://www.centerforthenewevangelization.org/wp-content/uploads/2022/04/IMG_13091-scaled.jpg
ORGANIZER;CN="Christen Aquino":MAILTO:caquino@catholicaoc.org
END:VEVENT
BEGIN:VEVENT
DTSTART;TZID=UTC:20221203T090000
DTEND;TZID=UTC:20221203T163000
DTSTAMP:20260420T102432
CREATED:20220316T232712Z
LAST-MODIFIED:20220531T230447Z
UID:10000452-1670058000-1670085000@www.centerforthenewevangelization.org
SUMMARY:Genesis: a pre-cana retreat
DESCRIPTION:May 10\, 20258:30 am to 2:00 pmMaria Stein Spiritual Center\, Maria Stein\, Ohio\, 45860								\n				\n				\n				\n									The Gift of Fertility: Mother & Daughter Workshop is designed to provide a Catholic context for moms and their daughters ages 10-14 to deepen their bond and learn about God’s beautiful plan for growing up. 								\n				\n				\n				\n									\n					\n						\n									Download Flyer\n					\n					\n				\n								\n				\n				\n		\n				\n				\n																														\n				\n				\n					\n				\n		\n					\n				\n				\n									Starting with Holy Mass at 8:30 a.m.\, this workshop will include three presentations highlighting the dignity and vocation of women\, the Theology of the Body\, chastity\, modesty\, the biology of the reproductive systems of men and women\, and the development of a baby in utero. Mothers will be provided tips on teaching their daughters about the conjugal act\, a topic that will not be taught at this event. A fun activity is included\, along with time for moms to speak with their daughters privately. 								\n				\n				\n				\n					Speakers include:				\n				\n		\n		\n		\n				\n				\n																														\n				\n				\n				\n									Dr. Trina Winner 								\n				\n				\n		\n				\n				\n																														\n				\n				\n				\n									Sr. Philomena Marie of the Sacred Heart\, CFE 								\n				\n				\n		\n				\n				\n																														\n				\n				\n				\n									Melissa Rahm 								\n				\n				\n				\n				\n				\n									Mass will begin at 8:30 in the chapel. Check-in begins at 9:00 a.m. with a light breakfast\, and presentations begin at 9:30 a.m. There will be lunch served at the end of the event. Questions? Please contact Adriana Vasquez at avasquez@catholicaoc.org RSVP deadline is Tuesday\, May 6th 2025. All participants will receive a welcome email a few days before the event. Thank you for your interest\, and we ask your prayers for blessings upon the team of presenters and all the participants.  Note: you only need one ticket per family. Payment for this workshop will show up on your credit card as a PayPal charge. 								\n				\n				\n					\n				\n		\n					\n				\n				\n					Tickets				\n				\n				\n				\n									Get tickets today via our event page on Ticket Tailor! 								\n				\n				\n				\n									\n					\n						\n									Get Tickets
URL:https://www.centerforthenewevangelization.org/event/genesis-a-pre-cana-retreat-40
LOCATION:Maria Stein Spiritual Center\, Maria Stein\, Ohio\, 2365 St Johns Rd.\, Maria Stein\, Ohio\, 45860
CATEGORIES:Marriage,Marriage Preparation
ATTACH;FMTTYPE=image/jpeg:https://www.centerforthenewevangelization.org/wp-content/uploads/2022/02/A7C0241897-copy-scaled.jpg
ORGANIZER;CN="Katie Englefield":MAILTO:kenglefield@catholicaoc.org
END:VEVENT
BEGIN:VEVENT
DTSTART;TZID=UTC:20221210T090000
DTEND;TZID=UTC:20221210T163000
DTSTAMP:20260420T102432
CREATED:20220316T233037Z
LAST-MODIFIED:20220401T202937Z
UID:10000453-1670662800-1670689800@www.centerforthenewevangelization.org
SUMMARY:Genesis: a pre-cana retreat
DESCRIPTION:May 10\, 20258:30 am to 2:00 pmMaria Stein Spiritual Center\, Maria Stein\, Ohio\, 45860								\n				\n				\n				\n									The Gift of Fertility: Mother & Daughter Workshop is designed to provide a Catholic context for moms and their daughters ages 10-14 to deepen their bond and learn about God’s beautiful plan for growing up. 								\n				\n				\n				\n									\n					\n						\n									Download Flyer\n					\n					\n				\n								\n				\n				\n		\n				\n				\n																														\n				\n				\n					\n				\n		\n					\n				\n				\n									Starting with Holy Mass at 8:30 a.m.\, this workshop will include three presentations highlighting the dignity and vocation of women\, the Theology of the Body\, chastity\, modesty\, the biology of the reproductive systems of men and women\, and the development of a baby in utero. Mothers will be provided tips on teaching their daughters about the conjugal act\, a topic that will not be taught at this event. A fun activity is included\, along with time for moms to speak with their daughters privately. 								\n				\n				\n				\n					Speakers include:				\n				\n		\n		\n		\n				\n				\n																														\n				\n				\n				\n									Dr. Trina Winner 								\n				\n				\n		\n				\n				\n																														\n				\n				\n				\n									Sr. Philomena Marie of the Sacred Heart\, CFE 								\n				\n				\n		\n				\n				\n																														\n				\n				\n				\n									Melissa Rahm 								\n				\n				\n				\n				\n				\n									Mass will begin at 8:30 in the chapel. Check-in begins at 9:00 a.m. with a light breakfast\, and presentations begin at 9:30 a.m. There will be lunch served at the end of the event. Questions? Please contact Adriana Vasquez at avasquez@catholicaoc.org RSVP deadline is Tuesday\, May 6th 2025. All participants will receive a welcome email a few days before the event. Thank you for your interest\, and we ask your prayers for blessings upon the team of presenters and all the participants.  Note: you only need one ticket per family. Payment for this workshop will show up on your credit card as a PayPal charge. 								\n				\n				\n					\n				\n		\n					\n				\n				\n					Tickets				\n				\n				\n				\n									Get tickets today via our event page on Ticket Tailor! 								\n				\n				\n				\n									\n					\n						\n									Get Tickets
URL:https://www.centerforthenewevangelization.org/event/genesis-a-pre-cana-retreat-41
LOCATION:VIRTUAL RETREAT OVER ZOOM\, OH\, United States
CATEGORIES:Marriage,Marriage Preparation
ATTACH;FMTTYPE=image/jpeg:https://www.centerforthenewevangelization.org/wp-content/uploads/2022/04/A7C0223927-copy-scaled.jpg
ORGANIZER;CN="Katie Englefield":MAILTO:kenglefield@catholicaoc.org
END:VEVENT
BEGIN:VEVENT
DTSTART;TZID=UTC:20221210T093000
DTEND;TZID=UTC:20221222T160000
DTSTAMP:20260420T102432
CREATED:20221128T233055Z
LAST-MODIFIED:20221128T233055Z
UID:10000496-1670664600-1671724800@www.centerforthenewevangelization.org
SUMMARY:Santa María en Adviento  /  Holy Mary in Advent
DESCRIPTION:May 10\, 20258:30 am to 2:00 pmMaria Stein Spiritual Center\, Maria Stein\, Ohio\, 45860								\n				\n				\n				\n									The Gift of Fertility: Mother & Daughter Workshop is designed to provide a Catholic context for moms and their daughters ages 10-14 to deepen their bond and learn about God’s beautiful plan for growing up. 								\n				\n				\n				\n									\n					\n						\n									Download Flyer\n					\n					\n				\n								\n				\n				\n		\n				\n				\n																														\n				\n				\n					\n				\n		\n					\n				\n				\n									Starting with Holy Mass at 8:30 a.m.\, this workshop will include three presentations highlighting the dignity and vocation of women\, the Theology of the Body\, chastity\, modesty\, the biology of the reproductive systems of men and women\, and the development of a baby in utero. Mothers will be provided tips on teaching their daughters about the conjugal act\, a topic that will not be taught at this event. A fun activity is included\, along with time for moms to speak with their daughters privately. 								\n				\n				\n				\n					Speakers include:				\n				\n		\n		\n		\n				\n				\n																														\n				\n				\n				\n									Dr. Trina Winner 								\n				\n				\n		\n				\n				\n																														\n				\n				\n				\n									Sr. Philomena Marie of the Sacred Heart\, CFE 								\n				\n				\n		\n				\n				\n																														\n				\n				\n				\n									Melissa Rahm 								\n				\n				\n				\n				\n				\n									Mass will begin at 8:30 in the chapel. Check-in begins at 9:00 a.m. with a light breakfast\, and presentations begin at 9:30 a.m. There will be lunch served at the end of the event. Questions? Please contact Adriana Vasquez at avasquez@catholicaoc.org RSVP deadline is Tuesday\, May 6th 2025. All participants will receive a welcome email a few days before the event. Thank you for your interest\, and we ask your prayers for blessings upon the team of presenters and all the participants.  Note: you only need one ticket per family. Payment for this workshop will show up on your credit card as a PayPal charge. 								\n				\n				\n					\n				\n		\n					\n				\n				\n					Tickets				\n				\n				\n				\n									Get tickets today via our event page on Ticket Tailor! 								\n				\n				\n				\n									\n					\n						\n									Get Tickets
URL:https://www.centerforthenewevangelization.org/event/santa-maria-en-adviento-holy-mary-in-advent
LOCATION:St. Theresa Cathholic Church\, 1827 N. Limestone Street\, Springfield\, OH\, 45503\, United States
CATEGORIES:Hispanic Evangelization
ATTACH;FMTTYPE=image/jpeg:https://www.centerforthenewevangelization.org/wp-content/uploads/2022/11/our-lady-of-guadalupe-4542832__340.jpg
ORGANIZER;CN="Maria Garcia-Gallegos":MAILTO:mgarcia@catholicaoc.org
END:VEVENT
BEGIN:VEVENT
DTSTART;TZID=UTC:20221212T190000
DTEND;TZID=UTC:20221212T190000
DTSTAMP:20260420T102432
CREATED:20221128T222239Z
LAST-MODIFIED:20221128T223118Z
UID:10000495-1670871600-1670871600@www.centerforthenewevangelization.org
SUMMARY:Misa Guadalupana (Our Lady of Guadalupe Mass)
DESCRIPTION:May 10\, 20258:30 am to 2:00 pmMaria Stein Spiritual Center\, Maria Stein\, Ohio\, 45860								\n				\n				\n				\n									The Gift of Fertility: Mother & Daughter Workshop is designed to provide a Catholic context for moms and their daughters ages 10-14 to deepen their bond and learn about God’s beautiful plan for growing up. 								\n				\n				\n				\n									\n					\n						\n									Download Flyer\n					\n					\n				\n								\n				\n				\n		\n				\n				\n																														\n				\n				\n					\n				\n		\n					\n				\n				\n									Starting with Holy Mass at 8:30 a.m.\, this workshop will include three presentations highlighting the dignity and vocation of women\, the Theology of the Body\, chastity\, modesty\, the biology of the reproductive systems of men and women\, and the development of a baby in utero. Mothers will be provided tips on teaching their daughters about the conjugal act\, a topic that will not be taught at this event. A fun activity is included\, along with time for moms to speak with their daughters privately. 								\n				\n				\n				\n					Speakers include:				\n				\n		\n		\n		\n				\n				\n																														\n				\n				\n				\n									Dr. Trina Winner 								\n				\n				\n		\n				\n				\n																														\n				\n				\n				\n									Sr. Philomena Marie of the Sacred Heart\, CFE 								\n				\n				\n		\n				\n				\n																														\n				\n				\n				\n									Melissa Rahm 								\n				\n				\n				\n				\n				\n									Mass will begin at 8:30 in the chapel. Check-in begins at 9:00 a.m. with a light breakfast\, and presentations begin at 9:30 a.m. There will be lunch served at the end of the event. Questions? Please contact Adriana Vasquez at avasquez@catholicaoc.org RSVP deadline is Tuesday\, May 6th 2025. All participants will receive a welcome email a few days before the event. Thank you for your interest\, and we ask your prayers for blessings upon the team of presenters and all the participants.  Note: you only need one ticket per family. Payment for this workshop will show up on your credit card as a PayPal charge. 								\n				\n				\n					\n				\n		\n					\n				\n				\n					Tickets				\n				\n				\n				\n									Get tickets today via our event page on Ticket Tailor! 								\n				\n				\n				\n									\n					\n						\n									Get Tickets
URL:https://www.centerforthenewevangelization.org/event/misa-guadalupana-our-lady-of-guadalupe-mass
LOCATION:Cathedral Basilica of St. Peter in Chains\, 325 W 8th St\, Cincinnati\, OH\, 45202\, United States
CATEGORIES:Hispanic Evangelization
ATTACH;FMTTYPE=image/jpeg:https://www.centerforthenewevangelization.org/wp-content/uploads/2022/11/our-lady-of-guadalupe-4542832__340.jpg
END:VEVENT
END:VCALENDAR