BEGIN:VCALENDAR
VERSION:2.0
PRODID:-//Center for New Evangelization - ECPv6.15.20//NONSGML v1.0//EN
CALSCALE:GREGORIAN
METHOD:PUBLISH
X-ORIGINAL-URL:https://www.centerforthenewevangelization.org
X-WR-CALDESC:Events for Center for New Evangelization
REFRESH-INTERVAL;VALUE=DURATION:PT1H
X-Robots-Tag:noindex
X-PUBLISHED-TTL:PT1H
BEGIN:VTIMEZONE
TZID:UTC
BEGIN:STANDARD
TZOFFSETFROM:+0000
TZOFFSETTO:+0000
TZNAME:UTC
DTSTART:20210101T000000
END:STANDARD
END:VTIMEZONE
BEGIN:VEVENT
DTSTART;TZID=UTC:20220401T190000
DTEND;TZID=UTC:20220401T230000
DTSTAMP:20260420T085746
CREATED:20210921T200727Z
LAST-MODIFIED:20220308T012406Z
UID:10000401-1648839600-1648854000@www.centerforthenewevangelization.org
SUMMARY:BEHOLD
DESCRIPTION:May 10\, 20258:30 am to 2:00 pmMaria Stein Spiritual Center\, Maria Stein\, Ohio\, 45860								\n				\n				\n				\n									The Gift of Fertility: Mother & Daughter Workshop is designed to provide a Catholic context for moms and their daughters ages 10-14 to deepen their bond and learn about God’s beautiful plan for growing up. 								\n				\n				\n				\n									\n					\n						\n									Download Flyer\n					\n					\n				\n								\n				\n				\n		\n				\n				\n																														\n				\n				\n					\n				\n		\n					\n				\n				\n									Starting with Holy Mass at 8:30 a.m.\, this workshop will include three presentations highlighting the dignity and vocation of women\, the Theology of the Body\, chastity\, modesty\, the biology of the reproductive systems of men and women\, and the development of a baby in utero. Mothers will be provided tips on teaching their daughters about the conjugal act\, a topic that will not be taught at this event. A fun activity is included\, along with time for moms to speak with their daughters privately. 								\n				\n				\n				\n					Speakers include:				\n				\n		\n		\n		\n				\n				\n																														\n				\n				\n				\n									Dr. Trina Winner 								\n				\n				\n		\n				\n				\n																														\n				\n				\n				\n									Sr. Philomena Marie of the Sacred Heart\, CFE 								\n				\n				\n		\n				\n				\n																														\n				\n				\n				\n									Melissa Rahm 								\n				\n				\n				\n				\n				\n									Mass will begin at 8:30 in the chapel. Check-in begins at 9:00 a.m. with a light breakfast\, and presentations begin at 9:30 a.m. There will be lunch served at the end of the event. Questions? Please contact Adriana Vasquez at avasquez@catholicaoc.org RSVP deadline is Tuesday\, May 6th 2025. All participants will receive a welcome email a few days before the event. Thank you for your interest\, and we ask your prayers for blessings upon the team of presenters and all the participants.  Note: you only need one ticket per family. Payment for this workshop will show up on your credit card as a PayPal charge. 								\n				\n				\n					\n				\n		\n					\n				\n				\n					Tickets				\n				\n				\n				\n									Get tickets today via our event page on Ticket Tailor! 								\n				\n				\n				\n									\n					\n						\n									Get Tickets
URL:https://www.centerforthenewevangelization.org/event/behold
LOCATION:St. Monica St. George\, 328 W McMillan St\, Cincinnati\, OH\, 45219\, United States
CATEGORIES:College Campus Ministry,Young Adult
ATTACH;FMTTYPE=image/jpeg:https://www.centerforthenewevangelization.org/wp-content/uploads/2020/09/BEHOLD.jpg
END:VEVENT
BEGIN:VEVENT
DTSTART;TZID=UTC:20220409T090000
DTEND;TZID=UTC:20220409T153000
DTSTAMP:20260420T085746
CREATED:20211110T031111Z
LAST-MODIFIED:20220401T202519Z
UID:10000406-1649494800-1649518200@www.centerforthenewevangelization.org
SUMMARY:Genesis: a pre-cana retreat
DESCRIPTION:May 10\, 20258:30 am to 2:00 pmMaria Stein Spiritual Center\, Maria Stein\, Ohio\, 45860								\n				\n				\n				\n									The Gift of Fertility: Mother & Daughter Workshop is designed to provide a Catholic context for moms and their daughters ages 10-14 to deepen their bond and learn about God’s beautiful plan for growing up. 								\n				\n				\n				\n									\n					\n						\n									Download Flyer\n					\n					\n				\n								\n				\n				\n		\n				\n				\n																														\n				\n				\n					\n				\n		\n					\n				\n				\n									Starting with Holy Mass at 8:30 a.m.\, this workshop will include three presentations highlighting the dignity and vocation of women\, the Theology of the Body\, chastity\, modesty\, the biology of the reproductive systems of men and women\, and the development of a baby in utero. Mothers will be provided tips on teaching their daughters about the conjugal act\, a topic that will not be taught at this event. A fun activity is included\, along with time for moms to speak with their daughters privately. 								\n				\n				\n				\n					Speakers include:				\n				\n		\n		\n		\n				\n				\n																														\n				\n				\n				\n									Dr. Trina Winner 								\n				\n				\n		\n				\n				\n																														\n				\n				\n				\n									Sr. Philomena Marie of the Sacred Heart\, CFE 								\n				\n				\n		\n				\n				\n																														\n				\n				\n				\n									Melissa Rahm 								\n				\n				\n				\n				\n				\n									Mass will begin at 8:30 in the chapel. Check-in begins at 9:00 a.m. with a light breakfast\, and presentations begin at 9:30 a.m. There will be lunch served at the end of the event. Questions? Please contact Adriana Vasquez at avasquez@catholicaoc.org RSVP deadline is Tuesday\, May 6th 2025. All participants will receive a welcome email a few days before the event. Thank you for your interest\, and we ask your prayers for blessings upon the team of presenters and all the participants.  Note: you only need one ticket per family. Payment for this workshop will show up on your credit card as a PayPal charge. 								\n				\n				\n					\n				\n		\n					\n				\n				\n					Tickets				\n				\n				\n				\n									Get tickets today via our event page on Ticket Tailor! 								\n				\n				\n				\n									\n					\n						\n									Get Tickets
URL:https://www.centerforthenewevangelization.org/event/genesis-a-pre-cana-retreat-24
LOCATION:VIRTUAL RETREAT OVER ZOOM\, OH\, United States
CATEGORIES:Marriage,Marriage Preparation
ATTACH;FMTTYPE=image/jpeg:https://www.centerforthenewevangelization.org/wp-content/uploads/2022/04/A7C0223927-copy-scaled.jpg
ORGANIZER;CN="Katie Englefield":MAILTO:kenglefield@catholicaoc.org
END:VEVENT
BEGIN:VEVENT
DTSTART;TZID=UTC:20220422T123000
DTEND;TZID=UTC:20220422T143000
DTSTAMP:20260420T085746
CREATED:20220216T235606Z
LAST-MODIFIED:20220419T231924Z
UID:10000433-1650630600-1650637800@www.centerforthenewevangelization.org
SUMMARY:Gender Identity: Practical Tips for Accompaniment
DESCRIPTION:May 10\, 20258:30 am to 2:00 pmMaria Stein Spiritual Center\, Maria Stein\, Ohio\, 45860								\n				\n				\n				\n									The Gift of Fertility: Mother & Daughter Workshop is designed to provide a Catholic context for moms and their daughters ages 10-14 to deepen their bond and learn about God’s beautiful plan for growing up. 								\n				\n				\n				\n									\n					\n						\n									Download Flyer\n					\n					\n				\n								\n				\n				\n		\n				\n				\n																														\n				\n				\n					\n				\n		\n					\n				\n				\n									Starting with Holy Mass at 8:30 a.m.\, this workshop will include three presentations highlighting the dignity and vocation of women\, the Theology of the Body\, chastity\, modesty\, the biology of the reproductive systems of men and women\, and the development of a baby in utero. Mothers will be provided tips on teaching their daughters about the conjugal act\, a topic that will not be taught at this event. A fun activity is included\, along with time for moms to speak with their daughters privately. 								\n				\n				\n				\n					Speakers include:				\n				\n		\n		\n		\n				\n				\n																														\n				\n				\n				\n									Dr. Trina Winner 								\n				\n				\n		\n				\n				\n																														\n				\n				\n				\n									Sr. Philomena Marie of the Sacred Heart\, CFE 								\n				\n				\n		\n				\n				\n																														\n				\n				\n				\n									Melissa Rahm 								\n				\n				\n				\n				\n				\n									Mass will begin at 8:30 in the chapel. Check-in begins at 9:00 a.m. with a light breakfast\, and presentations begin at 9:30 a.m. There will be lunch served at the end of the event. Questions? Please contact Adriana Vasquez at avasquez@catholicaoc.org RSVP deadline is Tuesday\, May 6th 2025. All participants will receive a welcome email a few days before the event. Thank you for your interest\, and we ask your prayers for blessings upon the team of presenters and all the participants.  Note: you only need one ticket per family. Payment for this workshop will show up on your credit card as a PayPal charge. 								\n				\n				\n					\n				\n		\n					\n				\n				\n					Tickets				\n				\n				\n				\n									Get tickets today via our event page on Ticket Tailor! 								\n				\n				\n				\n									\n					\n						\n									Get Tickets
URL:https://www.centerforthenewevangelization.org/event/gender-identity-practical-tips-for-accompaniment
LOCATION:St. Paul Catholic Church\, 1000 Wenger Road\, Englewood\, OH\, 45322\, United States
CATEGORIES:Adult Evangelization,Hispanic Evangelization,Parish Leadership,Young Adult,Youth Evangelization
ATTACH;FMTTYPE=image/jpeg:https://www.centerforthenewevangelization.org/wp-content/uploads/2022/02/Damon-Melanie-2020-2-scaled.jpg
ORGANIZER;CN="Adriana Vasquez":MAILTO:avasquez@catholicaoc.org
END:VEVENT
BEGIN:VEVENT
DTSTART;TZID=UTC:20220426T093000
DTEND;TZID=UTC:20220426T120000
DTSTAMP:20260420T085746
CREATED:20210205T210201Z
LAST-MODIFIED:20220203T235829Z
UID:10000325-1650965400-1650974400@www.centerforthenewevangelization.org
SUMMARY:Missio Days Dayton
DESCRIPTION:May 10\, 20258:30 am to 2:00 pmMaria Stein Spiritual Center\, Maria Stein\, Ohio\, 45860								\n				\n				\n				\n									The Gift of Fertility: Mother & Daughter Workshop is designed to provide a Catholic context for moms and their daughters ages 10-14 to deepen their bond and learn about God’s beautiful plan for growing up. 								\n				\n				\n				\n									\n					\n						\n									Download Flyer\n					\n					\n				\n								\n				\n				\n		\n				\n				\n																														\n				\n				\n					\n				\n		\n					\n				\n				\n									Starting with Holy Mass at 8:30 a.m.\, this workshop will include three presentations highlighting the dignity and vocation of women\, the Theology of the Body\, chastity\, modesty\, the biology of the reproductive systems of men and women\, and the development of a baby in utero. Mothers will be provided tips on teaching their daughters about the conjugal act\, a topic that will not be taught at this event. A fun activity is included\, along with time for moms to speak with their daughters privately. 								\n				\n				\n				\n					Speakers include:				\n				\n		\n		\n		\n				\n				\n																														\n				\n				\n				\n									Dr. Trina Winner 								\n				\n				\n		\n				\n				\n																														\n				\n				\n				\n									Sr. Philomena Marie of the Sacred Heart\, CFE 								\n				\n				\n		\n				\n				\n																														\n				\n				\n				\n									Melissa Rahm 								\n				\n				\n				\n				\n				\n									Mass will begin at 8:30 in the chapel. Check-in begins at 9:00 a.m. with a light breakfast\, and presentations begin at 9:30 a.m. There will be lunch served at the end of the event. Questions? Please contact Adriana Vasquez at avasquez@catholicaoc.org RSVP deadline is Tuesday\, May 6th 2025. All participants will receive a welcome email a few days before the event. Thank you for your interest\, and we ask your prayers for blessings upon the team of presenters and all the participants.  Note: you only need one ticket per family. Payment for this workshop will show up on your credit card as a PayPal charge. 								\n				\n				\n					\n				\n		\n					\n				\n				\n					Tickets				\n				\n				\n				\n									Get tickets today via our event page on Ticket Tailor! 								\n				\n				\n				\n									\n					\n						\n									Get Tickets
URL:https://www.centerforthenewevangelization.org/event/missio-days-dayton-2022-04-26
LOCATION:Our Lady of the Rosary\, 22 Notre Dame Avenue\, Dayton\, OH\, 45404\, United States
CATEGORIES:Missio Dayton,Youth Evangelization
ATTACH;FMTTYPE=image/jpeg:https://www.centerforthenewevangelization.org/wp-content/uploads/2020/09/young-adult.jpg
ORGANIZER;CN="Christen Aquino":MAILTO:caquino@catholicaoc.org
END:VEVENT
BEGIN:VEVENT
DTSTART;TZID=UTC:20220427T093000
DTEND;TZID=UTC:20220427T120000
DTSTAMP:20260420T085746
CREATED:20210205T211350Z
LAST-MODIFIED:20220203T235750Z
UID:10000329-1651051800-1651060800@www.centerforthenewevangelization.org
SUMMARY:Missio Days Cincinnati
DESCRIPTION:May 10\, 20258:30 am to 2:00 pmMaria Stein Spiritual Center\, Maria Stein\, Ohio\, 45860								\n				\n				\n				\n									The Gift of Fertility: Mother & Daughter Workshop is designed to provide a Catholic context for moms and their daughters ages 10-14 to deepen their bond and learn about God’s beautiful plan for growing up. 								\n				\n				\n				\n									\n					\n						\n									Download Flyer\n					\n					\n				\n								\n				\n				\n		\n				\n				\n																														\n				\n				\n					\n				\n		\n					\n				\n				\n									Starting with Holy Mass at 8:30 a.m.\, this workshop will include three presentations highlighting the dignity and vocation of women\, the Theology of the Body\, chastity\, modesty\, the biology of the reproductive systems of men and women\, and the development of a baby in utero. Mothers will be provided tips on teaching their daughters about the conjugal act\, a topic that will not be taught at this event. A fun activity is included\, along with time for moms to speak with their daughters privately. 								\n				\n				\n				\n					Speakers include:				\n				\n		\n		\n		\n				\n				\n																														\n				\n				\n				\n									Dr. Trina Winner 								\n				\n				\n		\n				\n				\n																														\n				\n				\n				\n									Sr. Philomena Marie of the Sacred Heart\, CFE 								\n				\n				\n		\n				\n				\n																														\n				\n				\n				\n									Melissa Rahm 								\n				\n				\n				\n				\n				\n									Mass will begin at 8:30 in the chapel. Check-in begins at 9:00 a.m. with a light breakfast\, and presentations begin at 9:30 a.m. There will be lunch served at the end of the event. Questions? Please contact Adriana Vasquez at avasquez@catholicaoc.org RSVP deadline is Tuesday\, May 6th 2025. All participants will receive a welcome email a few days before the event. Thank you for your interest\, and we ask your prayers for blessings upon the team of presenters and all the participants.  Note: you only need one ticket per family. Payment for this workshop will show up on your credit card as a PayPal charge. 								\n				\n				\n					\n				\n		\n					\n				\n				\n					Tickets				\n				\n				\n				\n									Get tickets today via our event page on Ticket Tailor! 								\n				\n				\n				\n									\n					\n						\n									Get Tickets
URL:https://www.centerforthenewevangelization.org/event/missio-days-cincinnati-2021-11-03-2022-04-27
LOCATION:Cathedral Basilica of St. Peter in Chains\, 325 W 8th St\, Cincinnati\, OH\, 45202\, United States
CATEGORIES:Missio Cincinnati,Youth Evangelization
ATTACH;FMTTYPE=image/jpeg:https://www.centerforthenewevangelization.org/wp-content/uploads/2020/09/young-adult.jpg
ORGANIZER;CN="Christen Aquino":MAILTO:caquino@catholicaoc.org
END:VEVENT
BEGIN:VEVENT
DTSTART;TZID=UTC:20220428T093000
DTEND;TZID=UTC:20220428T120000
DTSTAMP:20260420T085746
CREATED:20210205T213933Z
LAST-MODIFIED:20220203T235943Z
UID:10000333-1651138200-1651147200@www.centerforthenewevangelization.org
SUMMARY:Missio Day North
DESCRIPTION:May 10\, 20258:30 am to 2:00 pmMaria Stein Spiritual Center\, Maria Stein\, Ohio\, 45860								\n				\n				\n				\n									The Gift of Fertility: Mother & Daughter Workshop is designed to provide a Catholic context for moms and their daughters ages 10-14 to deepen their bond and learn about God’s beautiful plan for growing up. 								\n				\n				\n				\n									\n					\n						\n									Download Flyer\n					\n					\n				\n								\n				\n				\n		\n				\n				\n																														\n				\n				\n					\n				\n		\n					\n				\n				\n									Starting with Holy Mass at 8:30 a.m.\, this workshop will include three presentations highlighting the dignity and vocation of women\, the Theology of the Body\, chastity\, modesty\, the biology of the reproductive systems of men and women\, and the development of a baby in utero. Mothers will be provided tips on teaching their daughters about the conjugal act\, a topic that will not be taught at this event. A fun activity is included\, along with time for moms to speak with their daughters privately. 								\n				\n				\n				\n					Speakers include:				\n				\n		\n		\n		\n				\n				\n																														\n				\n				\n				\n									Dr. Trina Winner 								\n				\n				\n		\n				\n				\n																														\n				\n				\n				\n									Sr. Philomena Marie of the Sacred Heart\, CFE 								\n				\n				\n		\n				\n				\n																														\n				\n				\n				\n									Melissa Rahm 								\n				\n				\n				\n				\n				\n									Mass will begin at 8:30 in the chapel. Check-in begins at 9:00 a.m. with a light breakfast\, and presentations begin at 9:30 a.m. There will be lunch served at the end of the event. Questions? Please contact Adriana Vasquez at avasquez@catholicaoc.org RSVP deadline is Tuesday\, May 6th 2025. All participants will receive a welcome email a few days before the event. Thank you for your interest\, and we ask your prayers for blessings upon the team of presenters and all the participants.  Note: you only need one ticket per family. Payment for this workshop will show up on your credit card as a PayPal charge. 								\n				\n				\n					\n				\n		\n					\n				\n				\n					Tickets				\n				\n				\n				\n									Get tickets today via our event page on Ticket Tailor! 								\n				\n				\n				\n									\n					\n						\n									Get Tickets
URL:https://www.centerforthenewevangelization.org/event/missio-days-north-2022-04-28
LOCATION:Holy Redeemer\, 120 S Eastmoor Dr\, New Bremen\, OH\, 45869\, United States
CATEGORIES:Missio North,Youth Evangelization
ATTACH;FMTTYPE=image/jpeg:https://www.centerforthenewevangelization.org/wp-content/uploads/2020/09/Upper-Room2-900.jpg
ORGANIZER;CN="Christen Aquino":MAILTO:caquino@catholicaoc.org
END:VEVENT
BEGIN:VEVENT
DTSTART;TZID=UTC:20220430T090000
DTEND;TZID=UTC:20220430T163000
DTSTAMP:20260420T085746
CREATED:20211110T031418Z
LAST-MODIFIED:20220406T221820Z
UID:10000407-1651309200-1651336200@www.centerforthenewevangelization.org
SUMMARY:Genesis: a pre-cana retreat
DESCRIPTION:May 10\, 20258:30 am to 2:00 pmMaria Stein Spiritual Center\, Maria Stein\, Ohio\, 45860								\n				\n				\n				\n									The Gift of Fertility: Mother & Daughter Workshop is designed to provide a Catholic context for moms and their daughters ages 10-14 to deepen their bond and learn about God’s beautiful plan for growing up. 								\n				\n				\n				\n									\n					\n						\n									Download Flyer\n					\n					\n				\n								\n				\n				\n		\n				\n				\n																														\n				\n				\n					\n				\n		\n					\n				\n				\n									Starting with Holy Mass at 8:30 a.m.\, this workshop will include three presentations highlighting the dignity and vocation of women\, the Theology of the Body\, chastity\, modesty\, the biology of the reproductive systems of men and women\, and the development of a baby in utero. Mothers will be provided tips on teaching their daughters about the conjugal act\, a topic that will not be taught at this event. A fun activity is included\, along with time for moms to speak with their daughters privately. 								\n				\n				\n				\n					Speakers include:				\n				\n		\n		\n		\n				\n				\n																														\n				\n				\n				\n									Dr. Trina Winner 								\n				\n				\n		\n				\n				\n																														\n				\n				\n				\n									Sr. Philomena Marie of the Sacred Heart\, CFE 								\n				\n				\n		\n				\n				\n																														\n				\n				\n				\n									Melissa Rahm 								\n				\n				\n				\n				\n				\n									Mass will begin at 8:30 in the chapel. Check-in begins at 9:00 a.m. with a light breakfast\, and presentations begin at 9:30 a.m. There will be lunch served at the end of the event. Questions? Please contact Adriana Vasquez at avasquez@catholicaoc.org RSVP deadline is Tuesday\, May 6th 2025. All participants will receive a welcome email a few days before the event. Thank you for your interest\, and we ask your prayers for blessings upon the team of presenters and all the participants.  Note: you only need one ticket per family. Payment for this workshop will show up on your credit card as a PayPal charge. 								\n				\n				\n					\n				\n		\n					\n				\n				\n					Tickets				\n				\n				\n				\n									Get tickets today via our event page on Ticket Tailor! 								\n				\n				\n				\n									\n					\n						\n									Get Tickets
URL:https://www.centerforthenewevangelization.org/event/genesis-a-pre-cana-retreat-25
LOCATION:Jesuit Spiritual Center\, Milford\, Ohio\, 5361 S. Milford Rd.\, Milford\, OH\, 45150\, United States
CATEGORIES:Marriage,Marriage Preparation
ATTACH;FMTTYPE=image/jpeg:https://www.centerforthenewevangelization.org/wp-content/uploads/2020/09/Genesis-Talk-900.jpg
ORGANIZER;CN="Katie Englefield":MAILTO:kenglefield@catholicaoc.org
END:VEVENT
END:VCALENDAR