BEGIN:VCALENDAR
VERSION:2.0
PRODID:-//Center for New Evangelization - ECPv6.15.20//NONSGML v1.0//EN
CALSCALE:GREGORIAN
METHOD:PUBLISH
X-ORIGINAL-URL:https://www.centerforthenewevangelization.org
X-WR-CALDESC:Events for Center for New Evangelization
REFRESH-INTERVAL;VALUE=DURATION:PT1H
X-Robots-Tag:noindex
X-PUBLISHED-TTL:PT1H
BEGIN:VTIMEZONE
TZID:UTC
BEGIN:STANDARD
TZOFFSETFROM:+0000
TZOFFSETTO:+0000
TZNAME:UTC
DTSTART:20210101T000000
END:STANDARD
END:VTIMEZONE
BEGIN:VEVENT
DTSTART;TZID=UTC:20220312T090000
DTEND;TZID=UTC:20220312T163000
DTSTAMP:20260420T102510
CREATED:20210909T200311Z
LAST-MODIFIED:20220310T010732Z
UID:10000400-1647075600-1647102600@www.centerforthenewevangelization.org
SUMMARY:Genesis II: a pre-cana retreat
DESCRIPTION:May 10\, 20258:30 am to 2:00 pmMaria Stein Spiritual Center\, Maria Stein\, Ohio\, 45860								\n				\n				\n				\n									The Gift of Fertility: Mother & Daughter Workshop is designed to provide a Catholic context for moms and their daughters ages 10-14 to deepen their bond and learn about God’s beautiful plan for growing up. 								\n				\n				\n				\n									\n					\n						\n									Download Flyer\n					\n					\n				\n								\n				\n				\n		\n				\n				\n																														\n				\n				\n					\n				\n		\n					\n				\n				\n									Starting with Holy Mass at 8:30 a.m.\, this workshop will include three presentations highlighting the dignity and vocation of women\, the Theology of the Body\, chastity\, modesty\, the biology of the reproductive systems of men and women\, and the development of a baby in utero. Mothers will be provided tips on teaching their daughters about the conjugal act\, a topic that will not be taught at this event. A fun activity is included\, along with time for moms to speak with their daughters privately. 								\n				\n				\n				\n					Speakers include:				\n				\n		\n		\n		\n				\n				\n																														\n				\n				\n				\n									Dr. Trina Winner 								\n				\n				\n		\n				\n				\n																														\n				\n				\n				\n									Sr. Philomena Marie of the Sacred Heart\, CFE 								\n				\n				\n		\n				\n				\n																														\n				\n				\n				\n									Melissa Rahm 								\n				\n				\n				\n				\n				\n									Mass will begin at 8:30 in the chapel. Check-in begins at 9:00 a.m. with a light breakfast\, and presentations begin at 9:30 a.m. There will be lunch served at the end of the event. Questions? Please contact Adriana Vasquez at avasquez@catholicaoc.org RSVP deadline is Tuesday\, May 6th 2025. All participants will receive a welcome email a few days before the event. Thank you for your interest\, and we ask your prayers for blessings upon the team of presenters and all the participants.  Note: you only need one ticket per family. Payment for this workshop will show up on your credit card as a PayPal charge. 								\n				\n				\n					\n				\n		\n					\n				\n				\n					Tickets				\n				\n				\n				\n									Get tickets today via our event page on Ticket Tailor! 								\n				\n				\n				\n									\n					\n						\n									Get Tickets
URL:https://www.centerforthenewevangelization.org/event/genesis-ii-a-pre-cana-retreat-2
LOCATION:The Transfiguration Center for Spiritual Renewal\, West Milton\, Ohio\, 3505 Calumet Road\, Ludlow Falls\, OH\, 45339\, United States
CATEGORIES:Marriage,Marriage Preparation
ATTACH;FMTTYPE=image/jpeg:https://www.centerforthenewevangelization.org/wp-content/uploads/2020/09/Genesis-Talk-900.jpg
ORGANIZER;CN="Katie Englefield":MAILTO:kenglefield@catholicaoc.org
END:VEVENT
BEGIN:VEVENT
DTSTART;TZID=UTC:20220319T090000
DTEND;TZID=UTC:20220319T163000
DTSTAMP:20260420T102510
CREATED:20211220T201809Z
LAST-MODIFIED:20220907T205957Z
UID:10000429-1647680400-1647707400@www.centerforthenewevangelization.org
SUMMARY:Génesis: Retiro de Preparación Matrimonial
DESCRIPTION:May 10\, 20258:30 am to 2:00 pmMaria Stein Spiritual Center\, Maria Stein\, Ohio\, 45860								\n				\n				\n				\n									The Gift of Fertility: Mother & Daughter Workshop is designed to provide a Catholic context for moms and their daughters ages 10-14 to deepen their bond and learn about God’s beautiful plan for growing up. 								\n				\n				\n				\n									\n					\n						\n									Download Flyer\n					\n					\n				\n								\n				\n				\n		\n				\n				\n																														\n				\n				\n					\n				\n		\n					\n				\n				\n									Starting with Holy Mass at 8:30 a.m.\, this workshop will include three presentations highlighting the dignity and vocation of women\, the Theology of the Body\, chastity\, modesty\, the biology of the reproductive systems of men and women\, and the development of a baby in utero. Mothers will be provided tips on teaching their daughters about the conjugal act\, a topic that will not be taught at this event. A fun activity is included\, along with time for moms to speak with their daughters privately. 								\n				\n				\n				\n					Speakers include:				\n				\n		\n		\n		\n				\n				\n																														\n				\n				\n				\n									Dr. Trina Winner 								\n				\n				\n		\n				\n				\n																														\n				\n				\n				\n									Sr. Philomena Marie of the Sacred Heart\, CFE 								\n				\n				\n		\n				\n				\n																														\n				\n				\n				\n									Melissa Rahm 								\n				\n				\n				\n				\n				\n									Mass will begin at 8:30 in the chapel. Check-in begins at 9:00 a.m. with a light breakfast\, and presentations begin at 9:30 a.m. There will be lunch served at the end of the event. Questions? Please contact Adriana Vasquez at avasquez@catholicaoc.org RSVP deadline is Tuesday\, May 6th 2025. All participants will receive a welcome email a few days before the event. Thank you for your interest\, and we ask your prayers for blessings upon the team of presenters and all the participants.  Note: you only need one ticket per family. Payment for this workshop will show up on your credit card as a PayPal charge. 								\n				\n				\n					\n				\n		\n					\n				\n				\n					Tickets				\n				\n				\n				\n									Get tickets today via our event page on Ticket Tailor! 								\n				\n				\n				\n									\n					\n						\n									Get Tickets
URL:https://www.centerforthenewevangelization.org/event/genesis-retiro-de-preparacion-matrimonial-3
LOCATION:St. Susanna\, 616 Reading Rd\, Mason\, OH\, 45040\, United States
CATEGORIES:Hispanic Evangelization,Marriage,Marriage Preparation
ATTACH;FMTTYPE=image/jpeg:https://www.centerforthenewevangelization.org/wp-content/uploads/2021/08/Marriage-CNE.jpg
ORGANIZER;CN="Adriana Vasquez":MAILTO:avasquez@catholicaoc.org
END:VEVENT
BEGIN:VEVENT
DTSTART;TZID=UTC:20220321T093000
DTEND;TZID=UTC:20220321T150000
DTSTAMP:20260420T102510
CREATED:20211231T014523Z
LAST-MODIFIED:20220314T194737Z
UID:10000339-1647855000-1647874800@www.centerforthenewevangelization.org
SUMMARY:2022 Lenten Retreat: A God Who Hears His People
DESCRIPTION:May 10\, 20258:30 am to 2:00 pmMaria Stein Spiritual Center\, Maria Stein\, Ohio\, 45860								\n				\n				\n				\n									The Gift of Fertility: Mother & Daughter Workshop is designed to provide a Catholic context for moms and their daughters ages 10-14 to deepen their bond and learn about God’s beautiful plan for growing up. 								\n				\n				\n				\n									\n					\n						\n									Download Flyer\n					\n					\n				\n								\n				\n				\n		\n				\n				\n																														\n				\n				\n					\n				\n		\n					\n				\n				\n									Starting with Holy Mass at 8:30 a.m.\, this workshop will include three presentations highlighting the dignity and vocation of women\, the Theology of the Body\, chastity\, modesty\, the biology of the reproductive systems of men and women\, and the development of a baby in utero. Mothers will be provided tips on teaching their daughters about the conjugal act\, a topic that will not be taught at this event. A fun activity is included\, along with time for moms to speak with their daughters privately. 								\n				\n				\n				\n					Speakers include:				\n				\n		\n		\n		\n				\n				\n																														\n				\n				\n				\n									Dr. Trina Winner 								\n				\n				\n		\n				\n				\n																														\n				\n				\n				\n									Sr. Philomena Marie of the Sacred Heart\, CFE 								\n				\n				\n		\n				\n				\n																														\n				\n				\n				\n									Melissa Rahm 								\n				\n				\n				\n				\n				\n									Mass will begin at 8:30 in the chapel. Check-in begins at 9:00 a.m. with a light breakfast\, and presentations begin at 9:30 a.m. There will be lunch served at the end of the event. Questions? Please contact Adriana Vasquez at avasquez@catholicaoc.org RSVP deadline is Tuesday\, May 6th 2025. All participants will receive a welcome email a few days before the event. Thank you for your interest\, and we ask your prayers for blessings upon the team of presenters and all the participants.  Note: you only need one ticket per family. Payment for this workshop will show up on your credit card as a PayPal charge. 								\n				\n				\n					\n				\n		\n					\n				\n				\n					Tickets				\n				\n				\n				\n									Get tickets today via our event page on Ticket Tailor! 								\n				\n				\n				\n									\n					\n						\n									Get Tickets
URL:https://www.centerforthenewevangelization.org/event/2022-lenten-retreat-a-god-who-hears-his-people
LOCATION:St. Margaret of York\, 9495 Columbia Rd\, Loveland\, OH\, 45140\, United States
CATEGORIES:Adult Evangelization,Parish Leadership,Parish Vitality,Youth Evangelization
ATTACH;FMTTYPE=image/jpeg:https://www.centerforthenewevangelization.org/wp-content/uploads/2021/12/XLT-Tour-pic-1-1.jpg
END:VEVENT
BEGIN:VEVENT
DTSTART;TZID=UTC:20220322T093000
DTEND;TZID=UTC:20220322T150000
DTSTAMP:20260420T102510
CREATED:20211231T015308Z
LAST-MODIFIED:20220114T005207Z
UID:10000341-1647941400-1647961200@www.centerforthenewevangelization.org
SUMMARY:2022 Lenten Retreat: A God Who Hears His People
DESCRIPTION:May 10\, 20258:30 am to 2:00 pmMaria Stein Spiritual Center\, Maria Stein\, Ohio\, 45860								\n				\n				\n				\n									The Gift of Fertility: Mother & Daughter Workshop is designed to provide a Catholic context for moms and their daughters ages 10-14 to deepen their bond and learn about God’s beautiful plan for growing up. 								\n				\n				\n				\n									\n					\n						\n									Download Flyer\n					\n					\n				\n								\n				\n				\n		\n				\n				\n																														\n				\n				\n					\n				\n		\n					\n				\n				\n									Starting with Holy Mass at 8:30 a.m.\, this workshop will include three presentations highlighting the dignity and vocation of women\, the Theology of the Body\, chastity\, modesty\, the biology of the reproductive systems of men and women\, and the development of a baby in utero. Mothers will be provided tips on teaching their daughters about the conjugal act\, a topic that will not be taught at this event. A fun activity is included\, along with time for moms to speak with their daughters privately. 								\n				\n				\n				\n					Speakers include:				\n				\n		\n		\n		\n				\n				\n																														\n				\n				\n				\n									Dr. Trina Winner 								\n				\n				\n		\n				\n				\n																														\n				\n				\n				\n									Sr. Philomena Marie of the Sacred Heart\, CFE 								\n				\n				\n		\n				\n				\n																														\n				\n				\n				\n									Melissa Rahm 								\n				\n				\n				\n				\n				\n									Mass will begin at 8:30 in the chapel. Check-in begins at 9:00 a.m. with a light breakfast\, and presentations begin at 9:30 a.m. There will be lunch served at the end of the event. Questions? Please contact Adriana Vasquez at avasquez@catholicaoc.org RSVP deadline is Tuesday\, May 6th 2025. All participants will receive a welcome email a few days before the event. Thank you for your interest\, and we ask your prayers for blessings upon the team of presenters and all the participants.  Note: you only need one ticket per family. Payment for this workshop will show up on your credit card as a PayPal charge. 								\n				\n				\n					\n				\n		\n					\n				\n				\n					Tickets				\n				\n				\n				\n									Get tickets today via our event page on Ticket Tailor! 								\n				\n				\n				\n									\n					\n						\n									Get Tickets
URL:https://www.centerforthenewevangelization.org/event/2022-lenten-retreat-a-god-who-hears-his-people-2
LOCATION:Ascension Parish\, 2025 Woodman Dr\, Kettering\, OH\, 45420\, United States
CATEGORIES:Adult Evangelization,Hispanic Evangelization,Parish Leadership,Parish Vitality,Youth Evangelization
ATTACH;FMTTYPE=image/jpeg:https://www.centerforthenewevangelization.org/wp-content/uploads/2021/12/XLT-Tour-pic-1-1.jpg
END:VEVENT
BEGIN:VEVENT
DTSTART;TZID=UTC:20220323T093000
DTEND;TZID=UTC:20220323T150000
DTSTAMP:20260420T102510
CREATED:20211231T015736Z
LAST-MODIFIED:20220126T223038Z
UID:10000343-1648027800-1648047600@www.centerforthenewevangelization.org
SUMMARY:2022 Lenten Retreat: A God Who Hears His People
DESCRIPTION:May 10\, 20258:30 am to 2:00 pmMaria Stein Spiritual Center\, Maria Stein\, Ohio\, 45860								\n				\n				\n				\n									The Gift of Fertility: Mother & Daughter Workshop is designed to provide a Catholic context for moms and their daughters ages 10-14 to deepen their bond and learn about God’s beautiful plan for growing up. 								\n				\n				\n				\n									\n					\n						\n									Download Flyer\n					\n					\n				\n								\n				\n				\n		\n				\n				\n																														\n				\n				\n					\n				\n		\n					\n				\n				\n									Starting with Holy Mass at 8:30 a.m.\, this workshop will include three presentations highlighting the dignity and vocation of women\, the Theology of the Body\, chastity\, modesty\, the biology of the reproductive systems of men and women\, and the development of a baby in utero. Mothers will be provided tips on teaching their daughters about the conjugal act\, a topic that will not be taught at this event. A fun activity is included\, along with time for moms to speak with their daughters privately. 								\n				\n				\n				\n					Speakers include:				\n				\n		\n		\n		\n				\n				\n																														\n				\n				\n				\n									Dr. Trina Winner 								\n				\n				\n		\n				\n				\n																														\n				\n				\n				\n									Sr. Philomena Marie of the Sacred Heart\, CFE 								\n				\n				\n		\n				\n				\n																														\n				\n				\n				\n									Melissa Rahm 								\n				\n				\n				\n				\n				\n									Mass will begin at 8:30 in the chapel. Check-in begins at 9:00 a.m. with a light breakfast\, and presentations begin at 9:30 a.m. There will be lunch served at the end of the event. Questions? Please contact Adriana Vasquez at avasquez@catholicaoc.org RSVP deadline is Tuesday\, May 6th 2025. All participants will receive a welcome email a few days before the event. Thank you for your interest\, and we ask your prayers for blessings upon the team of presenters and all the participants.  Note: you only need one ticket per family. Payment for this workshop will show up on your credit card as a PayPal charge. 								\n				\n				\n					\n				\n		\n					\n				\n				\n					Tickets				\n				\n				\n				\n									Get tickets today via our event page on Ticket Tailor! 								\n				\n				\n				\n									\n					\n						\n									Get Tickets
URL:https://www.centerforthenewevangelization.org/event/2022-lenten-retreat-a-god-who-hears-his-people-3
LOCATION:St. Ignatius of Loyola Church\, Cincinnati\, 5222 North Bend Road\, Cincinnati\, OH\, 45247\, United States
CATEGORIES:Adult Evangelization,Parish Leadership,Parish Vitality,Youth Evangelization
ATTACH;FMTTYPE=image/jpeg:https://www.centerforthenewevangelization.org/wp-content/uploads/2021/12/XLT-Tour-pic-1-1.jpg
END:VEVENT
BEGIN:VEVENT
DTSTART;TZID=UTC:20220324T093000
DTEND;TZID=UTC:20220324T150000
DTSTAMP:20260420T102510
CREATED:20211231T020043Z
LAST-MODIFIED:20220114T005014Z
UID:10000345-1648114200-1648134000@www.centerforthenewevangelization.org
SUMMARY:2022 Lenten Retreat: A God Who Hears His People
DESCRIPTION:May 10\, 20258:30 am to 2:00 pmMaria Stein Spiritual Center\, Maria Stein\, Ohio\, 45860								\n				\n				\n				\n									The Gift of Fertility: Mother & Daughter Workshop is designed to provide a Catholic context for moms and their daughters ages 10-14 to deepen their bond and learn about God’s beautiful plan for growing up. 								\n				\n				\n				\n									\n					\n						\n									Download Flyer\n					\n					\n				\n								\n				\n				\n		\n				\n				\n																														\n				\n				\n					\n				\n		\n					\n				\n				\n									Starting with Holy Mass at 8:30 a.m.\, this workshop will include three presentations highlighting the dignity and vocation of women\, the Theology of the Body\, chastity\, modesty\, the biology of the reproductive systems of men and women\, and the development of a baby in utero. Mothers will be provided tips on teaching their daughters about the conjugal act\, a topic that will not be taught at this event. A fun activity is included\, along with time for moms to speak with their daughters privately. 								\n				\n				\n				\n					Speakers include:				\n				\n		\n		\n		\n				\n				\n																														\n				\n				\n				\n									Dr. Trina Winner 								\n				\n				\n		\n				\n				\n																														\n				\n				\n				\n									Sr. Philomena Marie of the Sacred Heart\, CFE 								\n				\n				\n		\n				\n				\n																														\n				\n				\n				\n									Melissa Rahm 								\n				\n				\n				\n				\n				\n									Mass will begin at 8:30 in the chapel. Check-in begins at 9:00 a.m. with a light breakfast\, and presentations begin at 9:30 a.m. There will be lunch served at the end of the event. Questions? Please contact Adriana Vasquez at avasquez@catholicaoc.org RSVP deadline is Tuesday\, May 6th 2025. All participants will receive a welcome email a few days before the event. Thank you for your interest\, and we ask your prayers for blessings upon the team of presenters and all the participants.  Note: you only need one ticket per family. Payment for this workshop will show up on your credit card as a PayPal charge. 								\n				\n				\n					\n				\n		\n					\n				\n				\n					Tickets				\n				\n				\n				\n									Get tickets today via our event page on Ticket Tailor! 								\n				\n				\n				\n									\n					\n						\n									Get Tickets
URL:https://www.centerforthenewevangelization.org/event/2022-lenten-retreat-a-god-who-hears-his-people-4
LOCATION:St. Michael\, Ft. Loramie\, 33 Elm Street\, Fort Loramie\, OH\, 45845\, United States
CATEGORIES:Adult Evangelization,Parish Leadership,Parish Vitality,Youth Evangelization
ATTACH;FMTTYPE=image/jpeg:https://www.centerforthenewevangelization.org/wp-content/uploads/2021/12/XLT-Tour-pic-1-1.jpg
END:VEVENT
BEGIN:VEVENT
DTSTART;TZID=UTC:20220326T090000
DTEND;TZID=UTC:20220326T163000
DTSTAMP:20260420T102510
CREATED:20211109T005045Z
LAST-MODIFIED:20220302T224210Z
UID:10000403-1648285200-1648312200@www.centerforthenewevangelization.org
SUMMARY:Genesis: a pre-cana retreat
DESCRIPTION:May 10\, 20258:30 am to 2:00 pmMaria Stein Spiritual Center\, Maria Stein\, Ohio\, 45860								\n				\n				\n				\n									The Gift of Fertility: Mother & Daughter Workshop is designed to provide a Catholic context for moms and their daughters ages 10-14 to deepen their bond and learn about God’s beautiful plan for growing up. 								\n				\n				\n				\n									\n					\n						\n									Download Flyer\n					\n					\n				\n								\n				\n				\n		\n				\n				\n																														\n				\n				\n					\n				\n		\n					\n				\n				\n									Starting with Holy Mass at 8:30 a.m.\, this workshop will include three presentations highlighting the dignity and vocation of women\, the Theology of the Body\, chastity\, modesty\, the biology of the reproductive systems of men and women\, and the development of a baby in utero. Mothers will be provided tips on teaching their daughters about the conjugal act\, a topic that will not be taught at this event. A fun activity is included\, along with time for moms to speak with their daughters privately. 								\n				\n				\n				\n					Speakers include:				\n				\n		\n		\n		\n				\n				\n																														\n				\n				\n				\n									Dr. Trina Winner 								\n				\n				\n		\n				\n				\n																														\n				\n				\n				\n									Sr. Philomena Marie of the Sacred Heart\, CFE 								\n				\n				\n		\n				\n				\n																														\n				\n				\n				\n									Melissa Rahm 								\n				\n				\n				\n				\n				\n									Mass will begin at 8:30 in the chapel. Check-in begins at 9:00 a.m. with a light breakfast\, and presentations begin at 9:30 a.m. There will be lunch served at the end of the event. Questions? Please contact Adriana Vasquez at avasquez@catholicaoc.org RSVP deadline is Tuesday\, May 6th 2025. All participants will receive a welcome email a few days before the event. Thank you for your interest\, and we ask your prayers for blessings upon the team of presenters and all the participants.  Note: you only need one ticket per family. Payment for this workshop will show up on your credit card as a PayPal charge. 								\n				\n				\n					\n				\n		\n					\n				\n				\n					Tickets				\n				\n				\n				\n									Get tickets today via our event page on Ticket Tailor! 								\n				\n				\n				\n									\n					\n						\n									Get Tickets
URL:https://www.centerforthenewevangelization.org/event/genesis-a-pre-cana-retreat-19
LOCATION:St. Luke Catholic Church\, Beavercreek\, 1440 N. Fairfield Rd.\, Beavercreek\, OH\, 45432\, United States
CATEGORIES:Marriage,Marriage Preparation
ATTACH;FMTTYPE=image/jpeg:https://www.centerforthenewevangelization.org/wp-content/uploads/2020/09/Genesis-Talk-1200.jpg
ORGANIZER;CN="Katie Englefield":MAILTO:kenglefield@catholicaoc.org
END:VEVENT
END:VCALENDAR