BEGIN:VCALENDAR
VERSION:2.0
PRODID:-//Center for New Evangelization - ECPv6.15.20//NONSGML v1.0//EN
CALSCALE:GREGORIAN
METHOD:PUBLISH
X-ORIGINAL-URL:https://www.centerforthenewevangelization.org
X-WR-CALDESC:Events for Center for New Evangelization
REFRESH-INTERVAL;VALUE=DURATION:PT1H
X-Robots-Tag:noindex
X-PUBLISHED-TTL:PT1H
BEGIN:VTIMEZONE
TZID:UTC
BEGIN:STANDARD
TZOFFSETFROM:+0000
TZOFFSETTO:+0000
TZNAME:UTC
DTSTART:20190101T000000
END:STANDARD
END:VTIMEZONE
BEGIN:VEVENT
DTSTART;TZID=UTC:20201201T120000
DTEND;TZID=UTC:20201201T160000
DTSTAMP:20260421T111319
CREATED:20201026T234735Z
LAST-MODIFIED:20201121T022212Z
UID:10000310-1606824000-1606838400@www.centerforthenewevangelization.org
SUMMARY:Amazing Parish Leadership Team Reunion
DESCRIPTION:May 10\, 20258:30 am to 2:00 pmMaria Stein Spiritual Center\, Maria Stein\, Ohio\, 45860								\n				\n				\n				\n									The Gift of Fertility: Mother & Daughter Workshop is designed to provide a Catholic context for moms and their daughters ages 10-14 to deepen their bond and learn about God’s beautiful plan for growing up. 								\n				\n				\n				\n									\n					\n						\n									Download Flyer\n					\n					\n				\n								\n				\n				\n		\n				\n				\n																														\n				\n				\n					\n				\n		\n					\n				\n				\n									Starting with Holy Mass at 8:30 a.m.\, this workshop will include three presentations highlighting the dignity and vocation of women\, the Theology of the Body\, chastity\, modesty\, the biology of the reproductive systems of men and women\, and the development of a baby in utero. Mothers will be provided tips on teaching their daughters about the conjugal act\, a topic that will not be taught at this event. A fun activity is included\, along with time for moms to speak with their daughters privately. 								\n				\n				\n				\n					Speakers include:				\n				\n		\n		\n		\n				\n				\n																														\n				\n				\n				\n									Dr. Trina Winner 								\n				\n				\n		\n				\n				\n																														\n				\n				\n				\n									Sr. Philomena Marie of the Sacred Heart\, CFE 								\n				\n				\n		\n				\n				\n																														\n				\n				\n				\n									Melissa Rahm 								\n				\n				\n				\n				\n				\n									Mass will begin at 8:30 in the chapel. Check-in begins at 9:00 a.m. with a light breakfast\, and presentations begin at 9:30 a.m. There will be lunch served at the end of the event. Questions? Please contact Adriana Vasquez at avasquez@catholicaoc.org RSVP deadline is Tuesday\, May 6th 2025. All participants will receive a welcome email a few days before the event. Thank you for your interest\, and we ask your prayers for blessings upon the team of presenters and all the participants.  Note: you only need one ticket per family. Payment for this workshop will show up on your credit card as a PayPal charge. 								\n				\n				\n					\n				\n		\n					\n				\n				\n					Tickets				\n				\n				\n				\n									Get tickets today via our event page on Ticket Tailor! 								\n				\n				\n				\n									\n					\n						\n									Get Tickets
URL:https://www.centerforthenewevangelization.org/event/amazing-parish-leadership-team-reunion
LOCATION:St. John West Chester\, 9080 Cincinnati Dayton Rd\, West Chester Township\, OH\, 45069\, United States
CATEGORIES:Parish Leadership
ATTACH;FMTTYPE=image/jpeg:https://www.centerforthenewevangelization.org/wp-content/uploads/2020/10/AP-pic-2.jpg
ORGANIZER;CN="Sean Ater":MAILTO:sater@catholicaoc.org
END:VEVENT
BEGIN:VEVENT
DTSTART;TZID=UTC:20201202T120000
DTEND;TZID=UTC:20201202T130000
DTSTAMP:20260421T111319
CREATED:20200929T180746Z
LAST-MODIFIED:20200929T225652Z
UID:10000296-1606910400-1606914000@www.centerforthenewevangelization.org
SUMMARY:Youth Evangelist Lunch and COVID Call
DESCRIPTION:May 10\, 20258:30 am to 2:00 pmMaria Stein Spiritual Center\, Maria Stein\, Ohio\, 45860								\n				\n				\n				\n									The Gift of Fertility: Mother & Daughter Workshop is designed to provide a Catholic context for moms and their daughters ages 10-14 to deepen their bond and learn about God’s beautiful plan for growing up. 								\n				\n				\n				\n									\n					\n						\n									Download Flyer\n					\n					\n				\n								\n				\n				\n		\n				\n				\n																														\n				\n				\n					\n				\n		\n					\n				\n				\n									Starting with Holy Mass at 8:30 a.m.\, this workshop will include three presentations highlighting the dignity and vocation of women\, the Theology of the Body\, chastity\, modesty\, the biology of the reproductive systems of men and women\, and the development of a baby in utero. Mothers will be provided tips on teaching their daughters about the conjugal act\, a topic that will not be taught at this event. A fun activity is included\, along with time for moms to speak with their daughters privately. 								\n				\n				\n				\n					Speakers include:				\n				\n		\n		\n		\n				\n				\n																														\n				\n				\n				\n									Dr. Trina Winner 								\n				\n				\n		\n				\n				\n																														\n				\n				\n				\n									Sr. Philomena Marie of the Sacred Heart\, CFE 								\n				\n				\n		\n				\n				\n																														\n				\n				\n				\n									Melissa Rahm 								\n				\n				\n				\n				\n				\n									Mass will begin at 8:30 in the chapel. Check-in begins at 9:00 a.m. with a light breakfast\, and presentations begin at 9:30 a.m. There will be lunch served at the end of the event. Questions? Please contact Adriana Vasquez at avasquez@catholicaoc.org RSVP deadline is Tuesday\, May 6th 2025. All participants will receive a welcome email a few days before the event. Thank you for your interest\, and we ask your prayers for blessings upon the team of presenters and all the participants.  Note: you only need one ticket per family. Payment for this workshop will show up on your credit card as a PayPal charge. 								\n				\n				\n					\n				\n		\n					\n				\n				\n					Tickets				\n				\n				\n				\n									Get tickets today via our event page on Ticket Tailor! 								\n				\n				\n				\n									\n					\n						\n									Get Tickets
URL:https://www.centerforthenewevangelization.org/event/youth-evangelist-lunch-and-covid-call/2020-12-02
LOCATION:Ohio
CATEGORIES:Youth Evangelization
ATTACH;FMTTYPE=image/jpeg:https://www.centerforthenewevangelization.org/wp-content/uploads/2020/09/Lunch-COVID.jpg
END:VEVENT
BEGIN:VEVENT
DTSTART;TZID=UTC:20201205T090000
DTEND;TZID=UTC:20201205T170000
DTSTAMP:20260421T111319
CREATED:20200924T182453Z
LAST-MODIFIED:20201112T212330Z
UID:10000289-1607158800-1607187600@www.centerforthenewevangelization.org
SUMMARY:Genesis Marriage Event
DESCRIPTION:May 10\, 20258:30 am to 2:00 pmMaria Stein Spiritual Center\, Maria Stein\, Ohio\, 45860								\n				\n				\n				\n									The Gift of Fertility: Mother & Daughter Workshop is designed to provide a Catholic context for moms and their daughters ages 10-14 to deepen their bond and learn about God’s beautiful plan for growing up. 								\n				\n				\n				\n									\n					\n						\n									Download Flyer\n					\n					\n				\n								\n				\n				\n		\n				\n				\n																														\n				\n				\n					\n				\n		\n					\n				\n				\n									Starting with Holy Mass at 8:30 a.m.\, this workshop will include three presentations highlighting the dignity and vocation of women\, the Theology of the Body\, chastity\, modesty\, the biology of the reproductive systems of men and women\, and the development of a baby in utero. Mothers will be provided tips on teaching their daughters about the conjugal act\, a topic that will not be taught at this event. A fun activity is included\, along with time for moms to speak with their daughters privately. 								\n				\n				\n				\n					Speakers include:				\n				\n		\n		\n		\n				\n				\n																														\n				\n				\n				\n									Dr. Trina Winner 								\n				\n				\n		\n				\n				\n																														\n				\n				\n				\n									Sr. Philomena Marie of the Sacred Heart\, CFE 								\n				\n				\n		\n				\n				\n																														\n				\n				\n				\n									Melissa Rahm 								\n				\n				\n				\n				\n				\n									Mass will begin at 8:30 in the chapel. Check-in begins at 9:00 a.m. with a light breakfast\, and presentations begin at 9:30 a.m. There will be lunch served at the end of the event. Questions? Please contact Adriana Vasquez at avasquez@catholicaoc.org RSVP deadline is Tuesday\, May 6th 2025. All participants will receive a welcome email a few days before the event. Thank you for your interest\, and we ask your prayers for blessings upon the team of presenters and all the participants.  Note: you only need one ticket per family. Payment for this workshop will show up on your credit card as a PayPal charge. 								\n				\n				\n					\n				\n		\n					\n				\n				\n					Tickets				\n				\n				\n				\n									Get tickets today via our event page on Ticket Tailor! 								\n				\n				\n				\n									\n					\n						\n									Get Tickets
URL:https://www.centerforthenewevangelization.org/event/genesis
LOCATION:St. Peter\, 6161 Chambersburg Rd\, Huber Heights\, OH\, 45424\, United States
CATEGORIES:Marriage
ATTACH;FMTTYPE=image/jpeg:https://www.centerforthenewevangelization.org/wp-content/uploads/2020/09/Genesis-Talk-900.jpg
ORGANIZER;CN="Katie Englefield":MAILTO:kenglefield@catholicaoc.org
END:VEVENT
BEGIN:VEVENT
DTSTART;TZID=UTC:20201205T182000
DTEND;TZID=UTC:20201205T210000
DTSTAMP:20260421T111319
CREATED:20200913T002602Z
LAST-MODIFIED:20201111T215224Z
UID:10000283-1607192400-1607202000@www.centerforthenewevangelization.org
SUMMARY:Summit - Dayton\, Ohio
DESCRIPTION:May 10\, 20258:30 am to 2:00 pmMaria Stein Spiritual Center\, Maria Stein\, Ohio\, 45860								\n				\n				\n				\n									The Gift of Fertility: Mother & Daughter Workshop is designed to provide a Catholic context for moms and their daughters ages 10-14 to deepen their bond and learn about God’s beautiful plan for growing up. 								\n				\n				\n				\n									\n					\n						\n									Download Flyer\n					\n					\n				\n								\n				\n				\n		\n				\n				\n																														\n				\n				\n					\n				\n		\n					\n				\n				\n									Starting with Holy Mass at 8:30 a.m.\, this workshop will include three presentations highlighting the dignity and vocation of women\, the Theology of the Body\, chastity\, modesty\, the biology of the reproductive systems of men and women\, and the development of a baby in utero. Mothers will be provided tips on teaching their daughters about the conjugal act\, a topic that will not be taught at this event. A fun activity is included\, along with time for moms to speak with their daughters privately. 								\n				\n				\n				\n					Speakers include:				\n				\n		\n		\n		\n				\n				\n																														\n				\n				\n				\n									Dr. Trina Winner 								\n				\n				\n		\n				\n				\n																														\n				\n				\n				\n									Sr. Philomena Marie of the Sacred Heart\, CFE 								\n				\n				\n		\n				\n				\n																														\n				\n				\n				\n									Melissa Rahm 								\n				\n				\n				\n				\n				\n									Mass will begin at 8:30 in the chapel. Check-in begins at 9:00 a.m. with a light breakfast\, and presentations begin at 9:30 a.m. There will be lunch served at the end of the event. Questions? Please contact Adriana Vasquez at avasquez@catholicaoc.org RSVP deadline is Tuesday\, May 6th 2025. All participants will receive a welcome email a few days before the event. Thank you for your interest\, and we ask your prayers for blessings upon the team of presenters and all the participants.  Note: you only need one ticket per family. Payment for this workshop will show up on your credit card as a PayPal charge. 								\n				\n				\n					\n				\n		\n					\n				\n				\n					Tickets				\n				\n				\n				\n									Get tickets today via our event page on Ticket Tailor! 								\n				\n				\n				\n									\n					\n						\n									Get Tickets
URL:https://www.centerforthenewevangelization.org/event/youth-family-mass
LOCATION:St Henry\, 6696 N Springboro Pike\, Dayton\, OH\, 45449\, United States
CATEGORIES:Youth Events
ATTACH;FMTTYPE=image/jpeg:https://www.centerforthenewevangelization.org/wp-content/uploads/2020/10/Summit.jpg
ORGANIZER;CN="Christen Aquino":MAILTO:caquino@catholicaoc.org
END:VEVENT
BEGIN:VEVENT
DTSTART;TZID=UTC:20201212T103000
DTEND;TZID=UTC:20201212T120000
DTSTAMP:20260421T111319
CREATED:20200928T210417Z
LAST-MODIFIED:20201207T235929Z
UID:10000293-1607769000-1607774400@www.centerforthenewevangelization.org
SUMMARY:Mass Celebration Our Lady Guadalupe
DESCRIPTION:May 10\, 20258:30 am to 2:00 pmMaria Stein Spiritual Center\, Maria Stein\, Ohio\, 45860								\n				\n				\n				\n									The Gift of Fertility: Mother & Daughter Workshop is designed to provide a Catholic context for moms and their daughters ages 10-14 to deepen their bond and learn about God’s beautiful plan for growing up. 								\n				\n				\n				\n									\n					\n						\n									Download Flyer\n					\n					\n				\n								\n				\n				\n		\n				\n				\n																														\n				\n				\n					\n				\n		\n					\n				\n				\n									Starting with Holy Mass at 8:30 a.m.\, this workshop will include three presentations highlighting the dignity and vocation of women\, the Theology of the Body\, chastity\, modesty\, the biology of the reproductive systems of men and women\, and the development of a baby in utero. Mothers will be provided tips on teaching their daughters about the conjugal act\, a topic that will not be taught at this event. A fun activity is included\, along with time for moms to speak with their daughters privately. 								\n				\n				\n				\n					Speakers include:				\n				\n		\n		\n		\n				\n				\n																														\n				\n				\n				\n									Dr. Trina Winner 								\n				\n				\n		\n				\n				\n																														\n				\n				\n				\n									Sr. Philomena Marie of the Sacred Heart\, CFE 								\n				\n				\n		\n				\n				\n																														\n				\n				\n				\n									Melissa Rahm 								\n				\n				\n				\n				\n				\n									Mass will begin at 8:30 in the chapel. Check-in begins at 9:00 a.m. with a light breakfast\, and presentations begin at 9:30 a.m. There will be lunch served at the end of the event. Questions? Please contact Adriana Vasquez at avasquez@catholicaoc.org RSVP deadline is Tuesday\, May 6th 2025. All participants will receive a welcome email a few days before the event. Thank you for your interest\, and we ask your prayers for blessings upon the team of presenters and all the participants.  Note: you only need one ticket per family. Payment for this workshop will show up on your credit card as a PayPal charge. 								\n				\n				\n					\n				\n		\n					\n				\n				\n					Tickets				\n				\n				\n				\n									Get tickets today via our event page on Ticket Tailor! 								\n				\n				\n				\n									\n					\n						\n									Get Tickets
URL:https://www.centerforthenewevangelization.org/event/mass-celebration-our-lady-guadalupe
LOCATION:Cathedral Basilica of St. Peter in Chains\, 325 W 8th St\, Cincinnati\, OH\, 45202\, United States
CATEGORIES:Hispanic Evangelization
ATTACH;FMTTYPE=image/jpeg:https://www.centerforthenewevangelization.org/wp-content/uploads/2020/09/Hispanic_Candelaria-900.jpg
END:VEVENT
BEGIN:VEVENT
DTSTART;TZID=UTC:20201215T083000
DTEND;TZID=UTC:20201215T160000
DTSTAMP:20260421T111319
CREATED:20201014T001830Z
LAST-MODIFIED:20201215T011423Z
UID:10000307-1608021000-1608048000@www.centerforthenewevangelization.org
SUMMARY:An Advent Retreat
DESCRIPTION:May 10\, 20258:30 am to 2:00 pmMaria Stein Spiritual Center\, Maria Stein\, Ohio\, 45860								\n				\n				\n				\n									The Gift of Fertility: Mother & Daughter Workshop is designed to provide a Catholic context for moms and their daughters ages 10-14 to deepen their bond and learn about God’s beautiful plan for growing up. 								\n				\n				\n				\n									\n					\n						\n									Download Flyer\n					\n					\n				\n								\n				\n				\n		\n				\n				\n																														\n				\n				\n					\n				\n		\n					\n				\n				\n									Starting with Holy Mass at 8:30 a.m.\, this workshop will include three presentations highlighting the dignity and vocation of women\, the Theology of the Body\, chastity\, modesty\, the biology of the reproductive systems of men and women\, and the development of a baby in utero. Mothers will be provided tips on teaching their daughters about the conjugal act\, a topic that will not be taught at this event. A fun activity is included\, along with time for moms to speak with their daughters privately. 								\n				\n				\n				\n					Speakers include:				\n				\n		\n		\n		\n				\n				\n																														\n				\n				\n				\n									Dr. Trina Winner 								\n				\n				\n		\n				\n				\n																														\n				\n				\n				\n									Sr. Philomena Marie of the Sacred Heart\, CFE 								\n				\n				\n		\n				\n				\n																														\n				\n				\n				\n									Melissa Rahm 								\n				\n				\n				\n				\n				\n									Mass will begin at 8:30 in the chapel. Check-in begins at 9:00 a.m. with a light breakfast\, and presentations begin at 9:30 a.m. There will be lunch served at the end of the event. Questions? Please contact Adriana Vasquez at avasquez@catholicaoc.org RSVP deadline is Tuesday\, May 6th 2025. All participants will receive a welcome email a few days before the event. Thank you for your interest\, and we ask your prayers for blessings upon the team of presenters and all the participants.  Note: you only need one ticket per family. Payment for this workshop will show up on your credit card as a PayPal charge. 								\n				\n				\n					\n				\n		\n					\n				\n				\n					Tickets				\n				\n				\n				\n									Get tickets today via our event page on Ticket Tailor! 								\n				\n				\n				\n									\n					\n						\n									Get Tickets
URL:https://www.centerforthenewevangelization.org/event/an-advent-retreat
LOCATION:St. Mary of the Assumption\, 9579 Yankee Road\, Springboro\, OH\, 45066\, United States
ATTACH;FMTTYPE=image/jpeg:https://www.centerforthenewevangelization.org/wp-content/uploads/2020/10/bethlehem.jpg
END:VEVENT
BEGIN:VEVENT
DTSTART;VALUE=DATE:20201216
DTEND;VALUE=DATE:20201217
DTSTAMP:20260421T111319
CREATED:20201211T233638Z
LAST-MODIFIED:20201216T212658Z
UID:10000321-1608076800-1608163199@www.centerforthenewevangelization.org
SUMMARY:Genesis: a Pre-Cana Retreat
DESCRIPTION:May 10\, 20258:30 am to 2:00 pmMaria Stein Spiritual Center\, Maria Stein\, Ohio\, 45860								\n				\n				\n				\n									The Gift of Fertility: Mother & Daughter Workshop is designed to provide a Catholic context for moms and their daughters ages 10-14 to deepen their bond and learn about God’s beautiful plan for growing up. 								\n				\n				\n				\n									\n					\n						\n									Download Flyer\n					\n					\n				\n								\n				\n				\n		\n				\n				\n																														\n				\n				\n					\n				\n		\n					\n				\n				\n									Starting with Holy Mass at 8:30 a.m.\, this workshop will include three presentations highlighting the dignity and vocation of women\, the Theology of the Body\, chastity\, modesty\, the biology of the reproductive systems of men and women\, and the development of a baby in utero. Mothers will be provided tips on teaching their daughters about the conjugal act\, a topic that will not be taught at this event. A fun activity is included\, along with time for moms to speak with their daughters privately. 								\n				\n				\n				\n					Speakers include:				\n				\n		\n		\n		\n				\n				\n																														\n				\n				\n				\n									Dr. Trina Winner 								\n				\n				\n		\n				\n				\n																														\n				\n				\n				\n									Sr. Philomena Marie of the Sacred Heart\, CFE 								\n				\n				\n		\n				\n				\n																														\n				\n				\n				\n									Melissa Rahm 								\n				\n				\n				\n				\n				\n									Mass will begin at 8:30 in the chapel. Check-in begins at 9:00 a.m. with a light breakfast\, and presentations begin at 9:30 a.m. There will be lunch served at the end of the event. Questions? Please contact Adriana Vasquez at avasquez@catholicaoc.org RSVP deadline is Tuesday\, May 6th 2025. All participants will receive a welcome email a few days before the event. Thank you for your interest\, and we ask your prayers for blessings upon the team of presenters and all the participants.  Note: you only need one ticket per family. Payment for this workshop will show up on your credit card as a PayPal charge. 								\n				\n				\n					\n				\n		\n					\n				\n				\n					Tickets				\n				\n				\n				\n									Get tickets today via our event page on Ticket Tailor! 								\n				\n				\n				\n									\n					\n						\n									Get Tickets
URL:https://www.centerforthenewevangelization.org/event/genesis-a-pre-cana-retreat-5
LOCATION:Ohio
CATEGORIES:Marriage
END:VEVENT
BEGIN:VEVENT
DTSTART;TZID=UTC:20201216T090000
DTEND;TZID=UTC:20201216T110000
DTSTAMP:20260421T111319
CREATED:20201202T203331Z
LAST-MODIFIED:20201203T004757Z
UID:10000318-1608109200-1608116400@www.centerforthenewevangelization.org
SUMMARY:Dr. Edward Sri’s Virtual Advent Retreat
DESCRIPTION:May 10\, 20258:30 am to 2:00 pmMaria Stein Spiritual Center\, Maria Stein\, Ohio\, 45860								\n				\n				\n				\n									The Gift of Fertility: Mother & Daughter Workshop is designed to provide a Catholic context for moms and their daughters ages 10-14 to deepen their bond and learn about God’s beautiful plan for growing up. 								\n				\n				\n				\n									\n					\n						\n									Download Flyer\n					\n					\n				\n								\n				\n				\n		\n				\n				\n																														\n				\n				\n					\n				\n		\n					\n				\n				\n									Starting with Holy Mass at 8:30 a.m.\, this workshop will include three presentations highlighting the dignity and vocation of women\, the Theology of the Body\, chastity\, modesty\, the biology of the reproductive systems of men and women\, and the development of a baby in utero. Mothers will be provided tips on teaching their daughters about the conjugal act\, a topic that will not be taught at this event. A fun activity is included\, along with time for moms to speak with their daughters privately. 								\n				\n				\n				\n					Speakers include:				\n				\n		\n		\n		\n				\n				\n																														\n				\n				\n				\n									Dr. Trina Winner 								\n				\n				\n		\n				\n				\n																														\n				\n				\n				\n									Sr. Philomena Marie of the Sacred Heart\, CFE 								\n				\n				\n		\n				\n				\n																														\n				\n				\n				\n									Melissa Rahm 								\n				\n				\n				\n				\n				\n									Mass will begin at 8:30 in the chapel. Check-in begins at 9:00 a.m. with a light breakfast\, and presentations begin at 9:30 a.m. There will be lunch served at the end of the event. Questions? Please contact Adriana Vasquez at avasquez@catholicaoc.org RSVP deadline is Tuesday\, May 6th 2025. All participants will receive a welcome email a few days before the event. Thank you for your interest\, and we ask your prayers for blessings upon the team of presenters and all the participants.  Note: you only need one ticket per family. Payment for this workshop will show up on your credit card as a PayPal charge. 								\n				\n				\n					\n				\n		\n					\n				\n				\n					Tickets				\n				\n				\n				\n									Get tickets today via our event page on Ticket Tailor! 								\n				\n				\n				\n									\n					\n						\n									Get Tickets
URL:https://www.centerforthenewevangelization.org/event/dr-edward-sris-virtual-advent-retreat
LOCATION:Ohio
ATTACH;FMTTYPE=image/jpeg:https://www.centerforthenewevangelization.org/wp-content/uploads/2020/12/sri4.jpg
ORGANIZER;CN="Andrea Patch":MAILTO:apatch@catholicaoc.org
END:VEVENT
END:VCALENDAR