BEGIN:VCALENDAR
VERSION:2.0
PRODID:-//Center for New Evangelization - ECPv6.15.20//NONSGML v1.0//EN
CALSCALE:GREGORIAN
METHOD:PUBLISH
X-WR-CALNAME:Center for New Evangelization
X-ORIGINAL-URL:https://www.centerforthenewevangelization.org
X-WR-CALDESC:Events for Center for New Evangelization
REFRESH-INTERVAL;VALUE=DURATION:PT1H
X-Robots-Tag:noindex
X-PUBLISHED-TTL:PT1H
BEGIN:VTIMEZONE
TZID:UTC
BEGIN:STANDARD
TZOFFSETFROM:+0000
TZOFFSETTO:+0000
TZNAME:UTC
DTSTART:20190101T000000
END:STANDARD
END:VTIMEZONE
BEGIN:VEVENT
DTSTART;TZID=UTC:20201007T120000
DTEND;TZID=UTC:20201007T130000
DTSTAMP:20260421T110829
CREATED:20200929T180746Z
LAST-MODIFIED:20200929T225652Z
UID:10000294-1602072000-1602075600@www.centerforthenewevangelization.org
SUMMARY:Youth Evangelist Lunch and COVID Call
DESCRIPTION:The Youth Evangelization team will be meeting the FIRST WEDNESDAYS OF THE MONTH AT NOON for a Lunch & COVID Check-in.  Hear from CNE Staff on any pertinent updates or guidelines\, ask questions and share challenges\, and offer new ideas and suggestions with other ministers. \nPlease download and import the following iCalendar (.ics) files to your calendar system. \nMonthly: https://catholiccincinnati.zoom.us/meeting/tJUtf-ygrjsiEtYxeksi5kK7cUlxsdqzw3SQ/ics?icsToken=98tyKuCprjMvEtSVuBGFRowcAoqgZ_zziGJHj7dkhBruECkGaSihNddOKqF7AcLH \nJoin Zoom Meeting \nhttps://catholiccincinnati.zoom.us/j/91085800882?pwd=emlEbTZDYlBsa0tSM1gzS1JJTVFSdz09 \nMeeting ID: 910 8580 0882\nPasscode: 948104 \nOne tap mobile \n+16465588656\,\,91085800882# US (New York)\n+13017158592\,\,91085800882# US (Germantown)
URL:https://www.centerforthenewevangelization.org/event/youth-evangelist-lunch-and-covid-call/2020-10-07
LOCATION:OH
CATEGORIES:Youth Evangelization
ATTACH;FMTTYPE=image/jpeg:https://www.centerforthenewevangelization.org/wp-content/uploads/2020/09/Lunch-COVID.jpg
END:VEVENT
BEGIN:VEVENT
DTSTART;TZID=UTC:20200925T174000
DTEND;TZID=UTC:20200925T203000
DTSTAMP:20260421T110829
CREATED:20200913T001200Z
LAST-MODIFIED:20200913T002356Z
UID:10000282-1601055600-1601065800@www.centerforthenewevangelization.org
SUMMARY:Youth & Family Masses
DESCRIPTION:In partnership with NET Ministries\, these Youth & Family Masses are geared toward engaging our Jr High Youth (and their entire family) in the Holy Sacrifice of the Mass through Worship and a Youth-Focused Homily. Additionally\, the evening will include a brief social and a reflection for diving deeper. \nDue to COVID restrictions\, we require registration to attend. The event is FREE\, but space is limited.
URL:https://www.centerforthenewevangelization.org/event/jr-high-youth-family-masses
LOCATION:St. Margaret of York\, 9495 Columbia Rd\, Loveland\, OH\, 45140\, United States
CATEGORIES:Youth Events
ATTACH;FMTTYPE=image/jpeg:https://www.centerforthenewevangelization.org/wp-content/uploads/2020/09/Youth-event-900.jpg
ORGANIZER;CN="Christen Aquino":MAILTO:caquino@catholicaoc.org
END:VEVENT
BEGIN:VEVENT
DTSTART;TZID=UTC:20200920T182000
DTEND;TZID=UTC:20200920T203000
DTSTAMP:20260421T110829
CREATED:20200909T221426Z
LAST-MODIFIED:20200910T000414Z
UID:10000278-1600626000-1600633800@www.centerforthenewevangelization.org
SUMMARY:Dayton: Encounter
DESCRIPTION:Gatherings that allow youth evangelists to encounter Jesus Christ in adoration and to invite their teens to pray with them. This event\, open to high schoolers\, seeks to gather groups of disciples from across the Archdiocese for an evening of worship\, a powerful testimony\, Eucharistic adoration\, confession\, and accompaniment.  \nDue to COVID Restrictions we require registration to attend. Event is FREE\, but space is limited.  \nDoors open at 6:20\, event begins with music & worship at 6:30 p.m. Event formally ends at 8:30.
URL:https://www.centerforthenewevangelization.org/event/dayton-encounter
LOCATION:Ascension Parish\, 2025 Woodman Dr\, Kettering\, OH\, 45420\, United States
CATEGORIES:Youth Events
ATTACH;FMTTYPE=image/jpeg:https://www.centerforthenewevangelization.org/wp-content/uploads/2020/09/encounter-900.jpg
END:VEVENT
END:VCALENDAR