BEGIN:VCALENDAR
VERSION:2.0
PRODID:-//Center for New Evangelization - ECPv6.15.20//NONSGML v1.0//EN
CALSCALE:GREGORIAN
METHOD:PUBLISH
X-ORIGINAL-URL:https://www.centerforthenewevangelization.org
X-WR-CALDESC:Events for Center for New Evangelization
REFRESH-INTERVAL;VALUE=DURATION:PT1H
X-Robots-Tag:noindex
X-PUBLISHED-TTL:PT1H
BEGIN:VTIMEZONE
TZID:UTC
BEGIN:STANDARD
TZOFFSETFROM:+0000
TZOFFSETTO:+0000
TZNAME:UTC
DTSTART:20190101T000000
END:STANDARD
END:VTIMEZONE
BEGIN:VEVENT
DTSTART;TZID=UTC:20201109T080000
DTEND;TZID=UTC:20201109T093000
DTSTAMP:20260424T200627
CREATED:20200909T220423Z
LAST-MODIFIED:20201001T202550Z
UID:10000276-1604908800-1604914200@www.centerforthenewevangelization.org
SUMMARY:Cincinnati: Campus Minister Meet-Up
DESCRIPTION:Gathering together High School Campus Ministers for a time of prayer\, fellowship\, and conversation on topics pertaining to the field of campus ministry.
URL:https://www.centerforthenewevangelization.org/event/cincinnati-campus-minister-meet-up
LOCATION:Our Lady of the Holy Spirit Center\, Norwood\, 5440 Moeller Ave\, Cincinnati\, OH\, 45212\, United States
CATEGORIES:Youth Evangelization
ATTACH;FMTTYPE=image/jpeg:https://www.centerforthenewevangelization.org/wp-content/uploads/2020/09/Campus-Minster-900.jpg
ORGANIZER;CN="Christen Aquino":MAILTO:caquino@catholicaoc.org
END:VEVENT
BEGIN:VEVENT
DTSTART;TZID=UTC:20201104T120000
DTEND;TZID=UTC:20201104T130000
DTSTAMP:20260424T200627
CREATED:20200929T180746Z
LAST-MODIFIED:20200929T225652Z
UID:10000295-1604491200-1604494800@www.centerforthenewevangelization.org
SUMMARY:Youth Evangelist Lunch and COVID Call
DESCRIPTION:The Youth Evangelization team will be meeting the FIRST WEDNESDAYS OF THE MONTH AT NOON for a Lunch & COVID Check-in.  Hear from CNE Staff on any pertinent updates or guidelines\, ask questions and share challenges\, and offer new ideas and suggestions with other ministers. \nPlease download and import the following iCalendar (.ics) files to your calendar system. \nMonthly: https://catholiccincinnati.zoom.us/meeting/tJUtf-ygrjsiEtYxeksi5kK7cUlxsdqzw3SQ/ics?icsToken=98tyKuCprjMvEtSVuBGFRowcAoqgZ_zziGJHj7dkhBruECkGaSihNddOKqF7AcLH \nJoin Zoom Meeting \nhttps://catholiccincinnati.zoom.us/j/91085800882?pwd=emlEbTZDYlBsa0tSM1gzS1JJTVFSdz09 \nMeeting ID: 910 8580 0882\nPasscode: 948104 \nOne tap mobile \n+16465588656\,\,91085800882# US (New York)\n+13017158592\,\,91085800882# US (Germantown)
URL:https://www.centerforthenewevangelization.org/event/youth-evangelist-lunch-and-covid-call/2020-11-04
LOCATION:OH
CATEGORIES:Youth Evangelization
ATTACH;FMTTYPE=image/jpeg:https://www.centerforthenewevangelization.org/wp-content/uploads/2020/09/Lunch-COVID.jpg
END:VEVENT
BEGIN:VEVENT
DTSTART;TZID=UTC:20201007T120000
DTEND;TZID=UTC:20201007T130000
DTSTAMP:20260424T200627
CREATED:20200929T180746Z
LAST-MODIFIED:20200929T225652Z
UID:10000294-1602072000-1602075600@www.centerforthenewevangelization.org
SUMMARY:Youth Evangelist Lunch and COVID Call
DESCRIPTION:The Youth Evangelization team will be meeting the FIRST WEDNESDAYS OF THE MONTH AT NOON for a Lunch & COVID Check-in.  Hear from CNE Staff on any pertinent updates or guidelines\, ask questions and share challenges\, and offer new ideas and suggestions with other ministers. \nPlease download and import the following iCalendar (.ics) files to your calendar system. \nMonthly: https://catholiccincinnati.zoom.us/meeting/tJUtf-ygrjsiEtYxeksi5kK7cUlxsdqzw3SQ/ics?icsToken=98tyKuCprjMvEtSVuBGFRowcAoqgZ_zziGJHj7dkhBruECkGaSihNddOKqF7AcLH \nJoin Zoom Meeting \nhttps://catholiccincinnati.zoom.us/j/91085800882?pwd=emlEbTZDYlBsa0tSM1gzS1JJTVFSdz09 \nMeeting ID: 910 8580 0882\nPasscode: 948104 \nOne tap mobile \n+16465588656\,\,91085800882# US (New York)\n+13017158592\,\,91085800882# US (Germantown)
URL:https://www.centerforthenewevangelization.org/event/youth-evangelist-lunch-and-covid-call/2020-10-07
LOCATION:OH
CATEGORIES:Youth Evangelization
ATTACH;FMTTYPE=image/jpeg:https://www.centerforthenewevangelization.org/wp-content/uploads/2020/09/Lunch-COVID.jpg
END:VEVENT
END:VCALENDAR