BEGIN:VCALENDAR
VERSION:2.0
PRODID:-//Center for New Evangelization - ECPv6.15.20//NONSGML v1.0//EN
CALSCALE:GREGORIAN
METHOD:PUBLISH
X-ORIGINAL-URL:https://www.centerforthenewevangelization.org
X-WR-CALDESC:Events for Center for New Evangelization
REFRESH-INTERVAL;VALUE=DURATION:PT1H
X-Robots-Tag:noindex
X-PUBLISHED-TTL:PT1H
BEGIN:VTIMEZONE
TZID:UTC
BEGIN:STANDARD
TZOFFSETFROM:+0000
TZOFFSETTO:+0000
TZNAME:UTC
DTSTART:20190101T000000
END:STANDARD
END:VTIMEZONE
BEGIN:VEVENT
DTSTART;TZID=UTC:20210424T090000
DTEND;TZID=UTC:20210424T170000
DTSTAMP:20260425T235457
CREATED:20210311T223443Z
LAST-MODIFIED:20210419T194746Z
UID:10000367-1619254800-1619283600@www.centerforthenewevangelization.org
SUMMARY:Génesis: Retiro de Preparación Matrimonial
DESCRIPTION:(Spanish speaking couples only) \nMientras te prepares para tu matrimonio\, te invitamos a ser parte de una comunidad de parejas. Te reunirás con parejas comprometidas y parejas casadas de la Arquidiócesis de Cincinnati que compartirán contigo sus experiencias y su emoción sobre el gran sacramento de la vida matrimonial. \n  \nTodo comienza con “Génesis\,” el retiro de un día para parejas comprometidas. En el retiro de Génesis\, profundizarás tu amistad con Jesucristo y con tu pareja\, y conocerás a otras parejas comprometidas que también comparten contigo el mismo viaje hacia el día de su boda. \nDebido a las restricciones de covid\, los espacios son limitados y el registro se cerrará automáticamente cuando se haya alcanzado el límite. \nEl costo es $65 por pareja. Solo es necesario comprar un boleto por pareja.
URL:https://www.centerforthenewevangelization.org/event/genesis-retiro-de-preparacion-matrimonial
LOCATION:St. Susanna\, 616 Reading Rd\, Mason\, OH\, 45040\, United States
CATEGORIES:Hispanic Evangelization,Marriage
ATTACH;FMTTYPE=image/jpeg:https://www.centerforthenewevangelization.org/wp-content/uploads/2021/03/wedding-lasso-2-294175.jpg
ORGANIZER;CN="Adriana Vasquez":MAILTO:avasquez@catholicaoc.org
END:VEVENT
BEGIN:VEVENT
DTSTART;TZID=UTC:20210424T090000
DTEND;TZID=UTC:20210424T170000
DTSTAMP:20260425T235457
CREATED:20201211T234523Z
LAST-MODIFIED:20210409T023057Z
UID:10000323-1619254800-1619283600@www.centerforthenewevangelization.org
SUMMARY:Genesis: a Pre-Cana Retreat
DESCRIPTION:As you prepare for marriage\, we invite you to be a part of the Genesis Marriage Community\, where you will meet other engaged and newly married couples as well as married couples from around the Archdiocese of Cincinnati who want to share this exciting journey of married life with you. \nIt all begins with GENESIS\, the one-day retreat for engaged couples. On the GENESIS retreat\, also known as Pre-Cana\, you will deepen your relationship with Jesus Christ and one another. You will meet other engaged couples as you begin the journey towards your wedding day where “authentic married love is caught up into divine love.” \nNOTE: You only need ONE ticket per couple 
URL:https://www.centerforthenewevangelization.org/event/genesis-a-pre-cana-retreat-7
LOCATION:VIRTUAL RETREAT OVER ZOOM\, OH\, United States
CATEGORIES:Marriage
ATTACH;FMTTYPE=image/jpeg:https://www.centerforthenewevangelization.org/wp-content/uploads/2020/09/Genesis-Talk-900.jpg
ORGANIZER;CN="Katie Englefield":MAILTO:kenglefield@catholicaoc.org
END:VEVENT
BEGIN:VEVENT
DTSTART;TZID=UTC:20210417T090000
DTEND;TZID=UTC:20210417T170000
DTSTAMP:20260425T235457
CREATED:20201123T190311Z
LAST-MODIFIED:20210409T023307Z
UID:10000317-1618650000-1618678800@www.centerforthenewevangelization.org
SUMMARY:Genesis: a Pre-Cana Retreat
DESCRIPTION:As you prepare for marriage\, we invite you to be a part of the Genesis Marriage Community\, where you will meet other engaged and newly married couples as well as married couples from around the Archdiocese of Cincinnati who want to share this exciting journey of married life with you. \nIt all begins with GENESIS\, the one-day retreat for engaged couples. On the GENESIS retreat\, also known as Pre-Cana\, you will deepen your relationship with Jesus Christ and one another. You will meet other engaged couples as you begin the journey towards your wedding day where “authentic married love is caught up into divine love.” \nONLY ONE TICKET IS NEEDED PER COUPLE!
URL:https://www.centerforthenewevangelization.org/event/genesis-a-pre-cana-retreat-2
LOCATION:VIRTUAL RETREAT OVER ZOOM\, OH\, United States
CATEGORIES:Marriage
ATTACH;FMTTYPE=image/jpeg:https://www.centerforthenewevangelization.org/wp-content/uploads/2020/09/Genesis-Talk-900.jpg
ORGANIZER;CN="Katie Englefield":MAILTO:kenglefield@catholicaoc.org
END:VEVENT
BEGIN:VEVENT
DTSTART;TZID=UTC:20210410T090000
DTEND;TZID=UTC:20210410T170000
DTSTAMP:20260425T235457
CREATED:20201123T190027Z
LAST-MODIFIED:20210331T220844Z
UID:10000316-1618045200-1618074000@www.centerforthenewevangelization.org
SUMMARY:Genesis: a Pre-Cana Retreat
DESCRIPTION:As you prepare for marriage\, we invite you to be a part of the Genesis Marriage Community\, where you will meet other engaged and newly married couples as well as married couples from around the Archdiocese of Cincinnati who want to share this exciting journey of married life with you. \nIt all begins with GENESIS\, the one-day retreat for engaged couples. On the GENESIS retreat\, also known as Pre-Cana\, you will deepen your relationship with Jesus Christ and one another. You will meet other engaged couples as you begin the journey towards your wedding day where “authentic married love is caught up into divine love.” \nNOTE: You only need ONE ticket per couple
URL:https://www.centerforthenewevangelization.org/event/genesis-a-pre-cana-retreat
LOCATION:VIRTUAL RETREAT OVER ZOOM\, OH\, United States
CATEGORIES:Marriage
ATTACH;FMTTYPE=image/jpeg:https://www.centerforthenewevangelization.org/wp-content/uploads/2020/09/Genesis-Talk-900.jpg
ORGANIZER;CN="Katie Englefield":MAILTO:kenglefield@catholicaoc.org
END:VEVENT
BEGIN:VEVENT
DTSTART;TZID=UTC:20210327T090000
DTEND;TZID=UTC:20210327T170000
DTSTAMP:20260425T235457
CREATED:20201211T232545Z
LAST-MODIFIED:20210311T000844Z
UID:10000320-1616835600-1616864400@www.centerforthenewevangelization.org
SUMMARY:Genesis: a Pre-Cana Retreat
DESCRIPTION:As you prepare for marriage\, we invite you to be a part of the Genesis Marriage Community\, where you will meet other engaged and newly married couples as well as married couples from around the Archdiocese of Cincinnati who want to share this exciting journey of married life with you. \nIt all begins with GENESIS\, the one-day retreat for engaged couples. On the GENESIS retreat\, also known as Pre-Cana\, you will deepen your relationship with Jesus Christ and one another. You will meet other engaged couples as you begin the journey towards your wedding day where “authentic married love is caught up into divine love.” \nNOTE: You only need ONE ticket per couple
URL:https://www.centerforthenewevangelization.org/event/genesis-a-pre-cana-retreat-3
LOCATION:VIRTUAL RETREAT OVER ZOOM\, OH\, United States
CATEGORIES:Marriage
ATTACH;FMTTYPE=image/jpeg:https://www.centerforthenewevangelization.org/wp-content/uploads/2020/09/Genesis-Talk-900.jpg
END:VEVENT
BEGIN:VEVENT
DTSTART;TZID=UTC:20210320T090000
DTEND;TZID=UTC:20210320T170000
DTSTAMP:20260425T235457
CREATED:20201211T234050Z
LAST-MODIFIED:20210123T031300Z
UID:10000322-1616230800-1616259600@www.centerforthenewevangelization.org
SUMMARY:Genesis: a Pre-Cana Retreat
DESCRIPTION:As you prepare for marriage\, we invite you to be a part of the Genesis Marriage Community\, where you will meet other engaged and newly married couples as well as married couples from around the Archdiocese of Cincinnati who want to share this exciting journey of married life with you. \nIt all begins with GENESIS\, the one-day retreat for engaged couples. On the GENESIS retreat\, also known as Pre-Cana\, you will deepen your relationship with Jesus Christ and one another. You will meet other engaged couples as you begin the journey towards your wedding day where “authentic married love is caught up into divine love.” \nNOTE: You only need ONE ticket per couple 
URL:https://www.centerforthenewevangelization.org/event/genesis-a-pre-cana-retreat-6
LOCATION:VIRTUAL RETREAT OVER ZOOM\, OH\, United States
CATEGORIES:Marriage
ATTACH;FMTTYPE=image/jpeg:https://www.centerforthenewevangelization.org/wp-content/uploads/2020/09/Genesis-Talk-900.jpg
ORGANIZER;CN="Katie Englefield":MAILTO:kenglefield@catholicaoc.org
END:VEVENT
BEGIN:VEVENT
DTSTART;TZID=UTC:20210313T090000
DTEND;TZID=UTC:20210313T170000
DTSTAMP:20260425T235457
CREATED:20201112T215835Z
LAST-MODIFIED:20210311T000653Z
UID:10000315-1615626000-1615654800@www.centerforthenewevangelization.org
SUMMARY:Genesis: a Pre-Cana Retreat
DESCRIPTION:As you prepare for marriage\, we invite you to be a part of the Genesis Marriage Community\, where you will meet other engaged and newly married couples as well as married couples from around the Archdiocese of Cincinnati who want to share this exciting journey of married life with you. \nIt all begins with GENESIS\, the one-day retreat for engaged couples. On the GENESIS retreat\, also known as Pre-Cana\, you will deepen your relationship with Jesus Christ and one another. You will meet other engaged couples as you begin the journey towards your wedding day where “authentic married love is caught up into divine love.” \nOnly ONE ticked needed per couple!
URL:https://www.centerforthenewevangelization.org/event/genesis-marriage-retreat-3
LOCATION:VIRTUAL RETREAT OVER ZOOM\, OH\, United States
CATEGORIES:Marriage
ATTACH;FMTTYPE=image/jpeg:https://www.centerforthenewevangelization.org/wp-content/uploads/2020/09/Genesis-Talk-900.jpg
ORGANIZER;CN="Katie Englefield":MAILTO:kenglefield@catholicaoc.org
END:VEVENT
BEGIN:VEVENT
DTSTART;TZID=UTC:20210306T090000
DTEND;TZID=UTC:20210306T170000
DTSTAMP:20260425T235457
CREATED:20201112T215515Z
LAST-MODIFIED:20210225T003123Z
UID:10000314-1615021200-1615050000@www.centerforthenewevangelization.org
SUMMARY:Genesis: a Pre-Cana Retreat
DESCRIPTION:As you prepare for marriage\, we invite you to be a part of the Genesis Marriage Community\, where you will meet other engaged and newly married couples as well as married couples from around the Archdiocese of Cincinnati who want to share this exciting journey of married life with you. \nIt all begins with GENESIS\, the one-day retreat for engaged couples. On the GENESIS retreat\, also known as Pre-Cana\, you will deepen your relationship with Jesus Christ and one another. You will meet other engaged couples as you begin the journey towards your wedding day where “authentic married love is caught up into divine love.”
URL:https://www.centerforthenewevangelization.org/event/genesis-marriage-retreat-2
LOCATION:VIRTUAL RETREAT OVER ZOOM\, OH\, United States
CATEGORIES:Marriage
ATTACH;FMTTYPE=image/jpeg:https://www.centerforthenewevangelization.org/wp-content/uploads/2020/09/Genesis-Talk-900.jpg
ORGANIZER;CN="Katie Englefield":MAILTO:kenglefield@catholicaoc.org
END:VEVENT
BEGIN:VEVENT
DTSTART;TZID=UTC:20210220T090000
DTEND;TZID=UTC:20210220T153000
DTSTAMP:20260425T235457
CREATED:20201112T215158Z
LAST-MODIFIED:20210204T225048Z
UID:10000313-1613811600-1613835000@www.centerforthenewevangelization.org
SUMMARY:Genesis: a Pre-Cana Retreat
DESCRIPTION:As you prepare for marriage\, we invite you to be a part of the Genesis Marriage Community\, where you will meet other engaged and newly married couples as well as married couples from around the Archdiocese of Cincinnati who want to share this exciting journey of married life with you. \nIt all begins with GENESIS\, the one-day retreat for engaged couples. On the GENESIS retreat\, also known as Pre-Cana\, you will deepen your relationship with Jesus Christ and one another. You will meet other engaged couples as you begin the journey towards your wedding day where “authentic married love is caught up into divine love.”
URL:https://www.centerforthenewevangelization.org/event/genesis-marriage-retreat
LOCATION:VIRTUAL RETREAT OVER ZOOM\, OH\, United States
CATEGORIES:Marriage
ATTACH;FMTTYPE=image/jpeg:https://www.centerforthenewevangelization.org/wp-content/uploads/2020/09/Genesis-Talk-1200.jpg
ORGANIZER;CN="Katie Englefield":MAILTO:kenglefield@catholicaoc.org
END:VEVENT
BEGIN:VEVENT
DTSTART;TZID=UTC:20210213T090000
DTEND;TZID=UTC:20210213T153000
DTSTAMP:20260425T235457
CREATED:20201112T214740Z
LAST-MODIFIED:20210204T225535Z
UID:10000312-1613206800-1613230200@www.centerforthenewevangelization.org
SUMMARY:Genesis: a Pre-Cana Retreat
DESCRIPTION:As you prepare for marriage\, we invite you to be a part of the Genesis Marriage Community\, where you will meet other engaged and newly married couples as well as married couples from around the Archdiocese of Cincinnati who want to share this exciting journey of married life with you. \nIt all begins with GENESIS\, the one-day retreat for engaged couples. On the GENESIS retreat\, also known as Pre-Cana\, you will deepen your relationship with Jesus Christ and one another. You will meet other engaged couples as you begin the journey towards your wedding day where “authentic married love is caught up into divine love.”
URL:https://www.centerforthenewevangelization.org/event/genesis-marriage-event-4
LOCATION:VIRTUAL RETREAT OVER ZOOM\, OH\, United States
CATEGORIES:Marriage
ATTACH;FMTTYPE=image/jpeg:https://www.centerforthenewevangelization.org/wp-content/uploads/2020/09/Genesis-Talk-900.jpg
ORGANIZER;CN="Katie Englefield":MAILTO:kenglefield@catholicaoc.org
END:VEVENT
BEGIN:VEVENT
DTSTART;TZID=UTC:20210206T090000
DTEND;TZID=UTC:20210206T170000
DTSTAMP:20260425T235457
CREATED:20200924T183050Z
LAST-MODIFIED:20210204T225424Z
UID:10000292-1612602000-1612630800@www.centerforthenewevangelization.org
SUMMARY:Genesis Marriage Event
DESCRIPTION:As you prepare for marriage\, we invite you to be a part of the Genesis Marriage Community\, where you will meet other engaged and newly married couples as well as married couples from around the Archdiocese of Cincinnati who want to share this exciting journey of married life with you. \nIt all begins with GENESIS\, the one-day retreat for engaged couples. On the GENESIS retreat\, also known as Pre-Cana\, you will deepen your relationship with Jesus Christ and one another. You will meet other engaged couples as you begin the journey towards your wedding day where “authentic married love is caught up into divine love.”
URL:https://www.centerforthenewevangelization.org/event/genesis-marriage-event-3
LOCATION:VIRTUAL RETREAT OVER ZOOM\, OH\, United States
CATEGORIES:Marriage
ATTACH;FMTTYPE=image/jpeg:https://www.centerforthenewevangelization.org/wp-content/uploads/2020/09/Genesis-Talk-900.jpg
ORGANIZER;CN="Katie Englefield":MAILTO:kenglefield@catholicaoc.org
END:VEVENT
BEGIN:VEVENT
DTSTART;TZID=UTC:20210123T090000
DTEND;TZID=UTC:20210123T150000
DTSTAMP:20260425T235457
CREATED:20200924T182950Z
LAST-MODIFIED:20201211T001747Z
UID:10000291-1611392400-1611414000@www.centerforthenewevangelization.org
SUMMARY:Genesis: a Pre-Cana Retreat
DESCRIPTION:DUE TO COVID-19 CONCERNS\, THIS RETREAT WILL BE GIVEN VIRTUALLY OVER ZOOM. CHECK YOUR REGISTRATION E-MAIL FOR MORE DETAILS. 
URL:https://www.centerforthenewevangelization.org/event/genesis-marriage-event-2
LOCATION:Ohio
CATEGORIES:Marriage
ATTACH;FMTTYPE=image/jpeg:https://www.centerforthenewevangelization.org/wp-content/uploads/2020/09/Genesis-Talk-900.jpg
ORGANIZER;CN="Katie Englefield":MAILTO:kenglefield@catholicaoc.org
END:VEVENT
BEGIN:VEVENT
DTSTART;TZID=UTC:20210109T090000
DTEND;TZID=UTC:20210109T170000
DTSTAMP:20260425T235457
CREATED:20200924T182739Z
LAST-MODIFIED:20201217T205942Z
UID:10000290-1610182800-1610211600@www.centerforthenewevangelization.org
SUMMARY:Genesis: a Pre-Cana Retreat
DESCRIPTION:Please note that this event is full.\nAs you prepare for marriage\, we invite you to be a part of the Genesis Marriage Community\, where you will meet other engaged and newly married couples as well as married couples from around the Archdiocese of Cincinnati who want to share this exciting journey of married life with you. \nIt all begins with GENESIS\, the one-day retreat for engaged couples. On the GENESIS retreat\, also known as Pre-Cana\, you will deepen your relationship with Jesus Christ and one another. You will meet other engaged couples as you begin the journey towards your wedding day where “authentic married love is caught up into divine love.” \nDUE TO COVID-19 CONCERNS\, THIS RETREAT WILL MEET VIRTUALLY. CHECK YOUR REGISTRATION E-MAIL FOR MORE DETAILS. 
URL:https://www.centerforthenewevangelization.org/event/genesis-marriage-event
LOCATION:Ohio
CATEGORIES:Marriage
ATTACH;FMTTYPE=image/jpeg:https://www.centerforthenewevangelization.org/wp-content/uploads/2020/09/Genesis-Talk-900.jpg
ORGANIZER;CN="Katie Englefield":MAILTO:kenglefield@catholicaoc.org
END:VEVENT
BEGIN:VEVENT
DTSTART;VALUE=DATE:20201216
DTEND;VALUE=DATE:20201217
DTSTAMP:20260425T235457
CREATED:20201211T233638Z
LAST-MODIFIED:20201216T212658Z
UID:10000321-1608076800-1608163199@www.centerforthenewevangelization.org
SUMMARY:Genesis: a Pre-Cana Retreat
DESCRIPTION:As you prepare for marriage\, we invite you to be a part of the Genesis Marriage Community\, where you will meet other engaged and newly married couples as well as married couples from around the Archdiocese of Cincinnati who want to share this exciting journey of married life with you. \nIt all begins with GENESIS\, the one-day retreat for engaged couples. On the GENESIS retreat\, also known as Pre-Cana\, you will deepen your relationship with Jesus Christ and one another. You will meet other engaged couples as you begin the journey towards your wedding day where “authentic married love is caught up into divine love.” \nNOTE: You only need ONE ticket per couple 
URL:https://www.centerforthenewevangelization.org/event/genesis-a-pre-cana-retreat-5
LOCATION:Ohio
CATEGORIES:Marriage
END:VEVENT
BEGIN:VEVENT
DTSTART;TZID=UTC:20201205T090000
DTEND;TZID=UTC:20201205T170000
DTSTAMP:20260425T235457
CREATED:20200924T182453Z
LAST-MODIFIED:20201112T212330Z
UID:10000289-1607158800-1607187600@www.centerforthenewevangelization.org
SUMMARY:Genesis Marriage Event
DESCRIPTION:As you prepare for marriage\, we invite you to be a part of the Genesis Marriage Community\, where you will meet other engaged and newly married couples as well as married couples from around the Archdiocese of Cincinnati who want to share this exciting journey of married life with you. \nIt all begins with GENESIS\, the one-day retreat for engaged couples. On the GENESIS retreat\, also known as Pre-Cana\, you will deepen your relationship with Jesus Christ and one another. You will meet other engaged couples as you begin the journey towards your wedding day where “authentic married love is caught up into divine love.”
URL:https://www.centerforthenewevangelization.org/event/genesis
LOCATION:St. Peter\, 6161 Chambersburg Rd\, Huber Heights\, OH\, 45424\, United States
CATEGORIES:Marriage
ATTACH;FMTTYPE=image/jpeg:https://www.centerforthenewevangelization.org/wp-content/uploads/2020/09/Genesis-Talk-900.jpg
ORGANIZER;CN="Katie Englefield":MAILTO:kenglefield@catholicaoc.org
END:VEVENT
END:VCALENDAR